Workbook

Sheet Summary table
A3: Years | B3: Estimated baseline emissions or removals (tCO2e) | C3: Estimated project emissions or removals (tCO2e) | D3: Estimated leakage emissions (tCO2e) | E3: Risk buffer (%) | F3: Deductions for AFOLU pooled buffer account | G3: Estimated net GHG emission reductions or removals (tCO2e)
A4: 2019 | B4: =baseline_tables_2020!G68 -> 5362137.3 | C4: =ProjectArea!G6 -> 98254.494 | D4: 0 | E4: 0.1 | F4: =E4*(B4-C4) -> 526388.28 | G4: =B4-C4-D4-F4 -> 4737494.5
A5: 2020 | B5: =baseline_tables_2020!G69 -> 5362137.3 | C5: =ProjectArea!G7 -> 98254.494 | D5: 0 | E5: 0.1 | F5: =E5*(B5-C5) -> 526388.28 | G5: =B5-C5-D5-F5 -> 4737494.5
A6: 2021 | B6: =baseline_tables_2020!G70 -> 2144854.9 | C6: =ProjectArea!G8 -> 37430.284 | D6: 0 | E6: 0.1 | F6: =E6*(B6-C6) -> 210742.46 | G6: =B6-C6-D6-F6 -> 1896682.2
A7: Total 2019-21 | B7: =SUM(B4:B6) -> 12869130 | C7: =SUM(C4:C6) -> 233939.27 | D7: =SUM(D4:D6) -> 0 | E7: 0.1 | F7: =SUM(F4:F6) -> 1263519 | G7: =SUM(G4:G6) -> 11371671

Sheet ProjectArea
B3: Net carbon stock change as a result of deforestation in the project area in the project case in stratum i at time t; | C3: Net carbon stock change as a result of degradation in the project area in the project case in stratum i at time t; | D3: Net carbon stock change as a result of natural disturbance in the project area in the project case in stratum i at time t | E3: Greenhouse gas emissions as a result of deforestation and degradation activities within the project area in the project case in stratum i in year t; | F3: Net carbon stock change as a result of forest growth and sequestration during the project in areas projected to be deforested in the baseline2 in stratum i at time t; | G3: Net greenhouse gas emissions within the project area under the project scenario
B4: t CO2-e | C4: t CO2-e | D4: t CO2-e | E4: t CO2-e | F4: t CO2-e | G4: t CO2-e
B5: ΔCP,DefPA,i,t | C5: ΔCP,Deg,i,t | D5: ΔCP,DistPA,i,t | E5: GHGP-E,i,t | F5: ΔCP,Enh,i,t | G5: ΔCP
A6: 2019 | B6: ='Defor actual'!G28 -> 13282.664 | C6: 0 | D6: ='Dist actual'!O5 -> 84971.83 | E6: 0 | F6: 0 | G6: =B6+D59+D6+E6-F6 -> 98254.494
A7: 2020 | B7: ='Defor actual'!G29 -> 13282.664 | D7: ='Dist actual'!O6 -> 84971.83 | G7: =B7+D60+D7+E7-F7 -> 98254.494
A8: 2021 | B8: ='Defor actual'!G30 -> 5060.0625 | D8: ='Dist actual'!O7 -> 32370.221 | G8: =B8+D61+D8+E8-F8 -> 37430.284
A9: Total 2019-21 | B9: =SUM(B6:B8) -> 31625.391 | C9: =SUM(C6:C8) -> 0 | D9: =SUM(D6:D8) -> 202313.88 | E9: =SUM(E6:E8) -> 0 | F9: =SUM(F6:F8) -> 0 | G9: =SUM(G6:G8) -> 233939.27

Sheet Leakage LB
C3: equation | D3: Derived in PD Sections 3.1 and 3.3 | E3: M-MON 4 | F3: LK-ASU 1
C4: Year | D4: ΔCBSL,LK,unplanned | E4: ΔCP,DefLB,i,t | F4: ∆CLK-ASU-LB
D5: t CO2 | E5: t CO2 | F5: t CO2
C6: 2019 | D6: 20062507 | E6: ='Defor actual'!M28 -> 8862260.5 | F6: =E6-D6 -> -11200247
C7: 2020 | D7: 20062507 | E7: ='Defor actual'!M29 -> 8862260.5 | F7: =E7-D7 -> -11200247
C8: 2021 | D8: 8025003 | E8: =G20 -> 3376099.2 | F8: =E8-D8 -> -4648903.7
C9: Total 2019-20 | D9: =SUM(D6:D8) -> 48150018 | E9: =SUM(E6:E8) -> 21100620 | F9: =SUM(F6:F8) -> -27049398
C15: equation | D15: Derived in PD Sections 3.1 and 3.3 | F15: Derived from forest inventory estimates | G15: M-MON 4 | H15: LK-ASU 1
C16: Year | D16: ΔCBSL,LK,unplanned | E16: ADefLB,u,i,t | F16: ΔCpools,Def,u,i,t | G16: ΔCP,DefLB,i,t | H16: ∆CLK-ASU-LB
D17: t CO2 | E17: ha | F17: t CO2/ha | G17: t CO2 | H17: t CO2
C18: 2019 | D18: =baseline_tables_2020!G87 -> 20062507 | E18: ='Defor actual'!M19 -> 20069.721 | F18: Varies by strata | G18: ='Defor actual'!M28 -> 8862260.5 | H18: =G18-D18 -> -11200247
C19: 2020 | D19: =baseline_tables_2020!G88 -> 20062507 | E19: ='Defor actual'!M20 -> 20069.721 | F19: Varies by strata | G19: ='Defor actual'!M29 -> 8862260.5 | H19: =G19-D19 -> -11200247
C20: 2021 | D20: =baseline_tables_2020!G89 -> 8025003 | E20: ='Defor actual'!M21 -> 7645.608 | F20: Varies by strata | G20: ='Defor actual'!M30 -> 3376099.2 | H20: =G20-D20 -> -4648903.7
C21: Total 2019-21 | D21: =SUM(D18:D20) -> 48150018 | E21: =SUM(E18:E20) -> 47785.05 | G21: =SUM(G18:G20) -> 21100620 | H21: =SUM(H18:H20) -> -27049398

Sheet Leakage OLB
C6: equation | E6: Derived in PD Section 3.1 | F6: LK-ASU 7 | I6: LK-ASU 8 | J6: LK-ASU 9 | K6: Derived in PD in Section 3.3 | L6: LK-ASU 10 | P6: If: | Q6: ALK-OLB,t < 0 à Leakage outside the Leakage Belt has not occurred.
C7: Year | D7: PROPIMM | E7: ABSL,PA,unplanned,t | F7: ALK-IMM,t | G7: ADefPA,i,t | H7: ADefLB,i,t | I7: ALK-ACT-IMM,t | J7: ALK-OLB,t | K7: PROPCS | L7: ∆CLK-ASU,OLB | Q7: · If leakage outside the Leakage Belt has not occurred:
E8: ha | F8: ha | G8: ha | H8: ha | I8: ha | J8: ha | L8: t CO2
C9: 2019 | D9: 0.197 | E9: =baseline_tables_2020!G28 -> 12409.38 | F9: =D9*E9 -> 2444.6479 | G9: ='Defor actual'!G19 -> 24.375206 | H9: ='Defor actual'!M19 -> 20069.721 | I9: =(G9+H9)*D9 -> 3958.537 | J9: =F9-I9 -> -1513.8891 | K9: 1.049 | L9: 0
C10: 2020 | D10: 0.197 | E10: =baseline_tables_2020!G29 -> 12409.38 | F10: =D10*E10 -> 2444.6479 | G10: ='Defor actual'!G20 -> 24.375206 | H10: ='Defor actual'!M20 -> 20069.721 | I10: =(G10+H10)*D10 -> 3958.537 | J10: =F10-I10 -> -1513.8891 | K10: 1.049 | L10: 0
C11: 2021 | D11: 0.197 | E11: =baseline_tables_2020!G30 -> 4963.752 | F11: =D11*E11 -> 977.85914 | G11: ='Defor actual'!G21 -> 9.2857926 | H11: ='Defor actual'!M21 -> 7645.608 | I11: =(G11+H11)*D11 -> 1508.0141 | J11: =F11-I11 -> -530.15493 | K11: 1.049 | L11: 0
C12: Total 2019-21 | E12: =SUM(E9:E11) -> 29782.512 | F12: =SUM(F9:F11) -> 5867.1549 | G12: =SUM(G9:G11) -> 58.036204 | H12: =SUM(H9:H11) -> 47785.05 | I12: =SUM(I9:I11) -> 9425.088 | J12: =SUM(J9:J11) -> -3557.9331 | K12: =SUM(K9:K11) -> 3.147 | L12: =SUM(L9:L11) -> 0

Sheet Stocks
D1: aboveground biomass | E1: belowground biomass | F1: dead wood
B2: Class | C2: Area | D2: AGB t CO2/ha | E2: BGB t CO2/ha | F2: DW t CO2/ha
B3: Alluvial forest | C3: PNCAZ | D3: 213.76667 | E3: 53.166667 | F3: 28.233333
B4: Hill forest | C4: PNCAZ | D4: 350.53333 | E4: 84.333333 | F4: 31.9
B5: Aguajal | C5: PNCAZ | D5: 282.7 | E5: 68.933333 | F5: 21.266667
B6: Mountain forest | C6: PNCAZ | D6: 508.93333 | E6: 119.16667 | F6: 43.633333
B7: Humedales – vegetacion inundable | C7: Leakage belt outside of PNCAZ | D7: 454.75471 | E7: 107.55937 | F7: 42.324716
B8: Vegetacion de tierra firme | C8: Leakage belt outside of PNCAZ | D8: 343.44101 | E8: 82.936494 | F8: 32.092931
B9: Anthropogenic (forest) | C9: Leakage belt outside of PNCAZ | D9: 366.20097 | E9: 88.01381 | F9: 34.188209
B10: Historical area-weighted average carbon stock for the converted (non forest) baseline, cultivation and pasture | C10: Post forest conversion project area and leakage belt | D10: 31.092608 | E10: 10.211694 | F10: 0
C14: Carbon stock in all pools in the baseline case in stratum | D14: Carbon stock in all pools in post-deforestation land use u in stratum i; t CO2-e ha-1 * | E14: Carbon stock sequestered in wood products from harvests in stratum i; t CO2-e ha-1
B15: Stratum | C15: CBSL,i | D15: CP,post,u,I | E15: CWP,i | F15: ΔCpools,Def,u,i,t
B16: Alluvial forest | C16: =SUM(D3:F3) -> 295.16667 | D16: =SUM($D$10:$F$10) -> 41.304303 | E16: 0 | F16: =C16-D16-E16 -> 253.86236
B17: Hill forest (Collinsos) | C17: =SUM(D4:F4) -> 466.76667 | D17: =SUM($D$10:$F$10) -> 41.304303 | E17: 0 | F17: =C17-D17-E17 -> 425.46236
B18: Aguajal (Humedales) | C18: =SUM(D5:F5) -> 372.9 | D18: =SUM($D$10:$F$10) -> 41.304303 | E18: 0 | F18: =C18-D18-E18 -> 331.5957
B19: Mountain forest | C19: =SUM(D6:F6) -> 671.73333 | D19: =SUM($D$10:$F$10) -> 41.304303 | E19: 0 | F19: =C19-D19-E19 -> 630.42903
B20: Humedales – vegetacion inundable | C20: =SUM(D7:F7) -> 604.6388 | D20: =SUM($D$10:$F$10) -> 41.304303 | E20: 0 | F20: =C20-D20-E20 -> 563.33449
B21: Vegetacion de tierra firme | C21: =SUM(D8:F8) -> 458.47044 | D21: =SUM($D$10:$F$10) -> 41.304303 | E21: 0 | F21: =C21-D21-E21 -> 417.16614
B22: Anthropogenic (forest) | C22: =SUM(D9:F9) -> 488.40299 | D22: =SUM($D$10:$F$10) -> 41.304303 | E22: 0 | F22: =C22-D22-E22 -> 447.09868
B23: * Historical area-weighted average carbon stock for the converted (non forest) baseline, cultivation and pasture

Sheet Dist actual
C3: ADistPA,q,i,t (ha) | K3: ΔCP,DistPA,i,t
B4: Year | C4: Alluvial | D4: Collinsos (Hill forest) | E4: Montanosos | F4: Humedales (Aguajal) | G4: TOTAL | J4: Year | K4: Alluvial | L4: Collinsos (Hill forest) | M4: Montanosos | N4: Humedales (Aguajal) | O4: TOTAL
B5: 2019 | C5: =B20*0.42 -> 63.262162 | D5: =B21*0.42 -> 103.20727 | E5: =B22*0.42 -> 26.982786 | F5: 0 | G5: =SUM(C5:F5) -> 193.45222 | J5: 2019 | K5: =C5*$F$11 -> 18672.882 | L5: =D5*F$12 -> 48173.712 | M5: =E5*F$13 -> 18125.237 | N5: =F5*F$14 -> 0 | O5: =SUM(K5:N5) -> 84971.83
B6: 2020 | C6: =B20*0.42 -> 63.262162 | D6: =B21*0.42 -> 103.20727 | E6: =B22*0.42 -> 26.982786 | G6: =SUM(C6:F6) -> 193.45222 | J6: 2020 | K6: =C6*$F$11 -> 18672.882 | L6: =D6*F$12 -> 48173.712 | M6: =E6*F$13 -> 18125.237 | N6: =F6*F$14 -> 0 | O6: =SUM(K6:N6) -> 84971.83
B7: 2021 | C7: =B20*0.16 -> 24.099871 | D7: =B21*0.16 -> 39.317054 | E7: =B22*0.16 -> 10.279157 | G7: =SUM(C7:F7) -> 73.696082 | J7: 2021 | K7: =C7*$F$11 -> 7113.4787 | L7: =D7*F$12 -> 18351.89 | M7: =E7*F$13 -> 6904.8522 | N7: =F7*F$14 -> 0 | O7: =SUM(K7:N7) -> 32370.221
B8: Total 2019-21 | C8: =SUM(C5:C7) -> 150.6242 | D8: =SUM(D5:D7) -> 245.73159 | E8: =SUM(E5:E7) -> 64.244729 | F8: =SUM(F5:F7) -> 0 | G8: =SUM(G5:G7) -> 460.60051 | J8: Total 2019-21 | K8: =SUM(K5:K7) -> 44459.242 | L8: =SUM(L5:L7) -> 114699.31 | M8: =SUM(M5:M7) -> 43155.326 | N8: =SUM(N5:N7) -> 0 | O8: =SUM(O5:O6) -> 169943.66
B10: Stratum | C10: CBSL,i | D10: CP,Dist,q,i | E10: CDist, WP,q,i | F10: ΔCP,Dist,q,i,t
B11: Alluvial | C11: =Stocks!C16 -> 295.16667 | D11: 0 | E11: 0 | F11: =C11-D11-E11 -> 295.16667
B12: Collinsos (Hill forest) | C12: =Stocks!C17 -> 466.76667 | D12: 0 | E12: 0 | F12: =C12-D12-E12 -> 466.76667
B13: Montanosos | C13: =Stocks!C19 -> 671.73333 | D13: 0 | E13: 0 | F13: =C13-D13-E13 -> 671.73333
B14: Humedales (Aguajal) | C14: =Stocks!C18 -> 372.9 | D14: 0 | E14: 0 | F14: =C14-D14-E14 -> 372.9
B19: Distrubance Areas
B20: 150.6242 | C20: Bosques Alluviales
B21: 245.73159 | C21: Bosques Colinsos
B22: 64.244729 | C22: Bosques Montañosos

Sheet Defor actual
B1: ΔCP,DefPA,i,t | C1: ADefPA,u,i,t (ha) | D1: Area of recorded deforestation in the project area stratum i converted to land use u at time t; ha | E1: Calculated in imagery analysis
B2: Forest loss by stratum
D4: TOTAL Change | E4: Anthropogenic change | F4: Natural disturbance | G4: TOTAL Change | I4: Leakage Belt Non-Forest | J4: TOTAL CHANGE HA
C5: Project Area Forest type | D5: ha | E5: ha | F5: ha | G5: ha | I5: Anthropogenic Forest | J5: 6193.98
C6: Bosques Alluviales | D6: =SUM(E6:F6) -> 154.22334 | E6: 3.599144 | F6: 150.6242 | G6: =D6 -> 154.22334 | I6: Humedales & Inundated Forest | J6: 6710.85
C7: Bosques Colinsos | D7: =SUM(E7:F7) -> 263.27742 | E7: 16.286129 | F7: 246.99129 | G7: =D7 -> 263.27742 | I7: Tierra Firme Forest | J7: 34880.22
C8: Bosques Montañosos | D8: =SUM(E8:F8) -> 100.23617 | E8: 37.251145 | F8: 62.985029 | G8: =D8 -> 100.23617
C9: Humedales | D9: =SUM(E9:F9) -> 0.899786 | E9: 0.899786 | F9: 0 | G9: =D9 -> 0.899786
C11: Total all classes | D11: =SUM(D6:D9) -> 518.63672 | E11: =SUM(E6:E9) -> 58.036204 | F11: =D11-E11 -> 460.60051 | G11: =D11 -> 518.63672
B16: Project area change by vegetation types | I16: Leakage Belt change by vegetation types
C17: ADefPA,u,i,t (ha) | J17: ADefLB,u,i,t (ha) | M17: TOTAL
C18: Alluvial | D18: Collinsos (Hill forest) | E18: Montanosos | F18: Humedales (Aguajal) | G18: TOTAL | J18: Anthropogenic (forest) | K18: Humedales – vegetacion inundable | L18: Vegetacion de tierra firme
B19: 2019 | C19: =E6*0.42 -> 1.5116405 | D19: =E7*0.42 -> 6.8401742 | E19: =E8*0.42 -> 15.645481 | F19: =E9*0.42 -> 0.37791012 | G19: =SUM(C19:F19) -> 24.375206 | I19: 2019 | J19: =J5*0.42 -> 2601.4716 | K19: =J6*0.42 -> 2818.557 | L19: =J7*0.42 -> 14649.692 | M19: =SUM(J19:L19) -> 20069.721
B20: 2020 | C20: =E6*0.42 -> 1.5116405 | D20: =E7*0.42 -> 6.8401742 | E20: =E8*0.42 -> 15.645481 | F20: =E9*0.42 -> 0.37791012 | G20: =SUM(C20:F20) -> 24.375206 | I20: 2020 | J20: =J5*0.42 -> 2601.4716 | K20: =J6*0.42 -> 2818.557 | L20: =J7*0.42 -> 14649.692 | M20: =SUM(J20:L20) -> 20069.721
B21: 2021 | C21: =E6*0.16 -> 0.57586304 | D21: =E7*0.16 -> 2.6057806 | E21: =E8*0.16 -> 5.9601832 | F21: =E9*0.16 -> 0.14396576 | G21: =SUM(C21:F21) -> 9.2857926 | I21: 2021 | J21: =J5*0.16 -> 991.0368 | K21: =J6*0.16 -> 1073.736 | L21: =J7*0.16 -> 5580.8352 | M21: =SUM(J21:L21) -> 7645.608
B22: Total 2019-21 | C22: =SUM(C19:C21) -> 3.599144 | D22: =SUM(D19:D21) -> 16.286129 | E22: =SUM(E19:E21) -> 37.251145 | F22: =SUM(F19:F21) -> 0.899786 | G22: =SUM(C22:F22) -> 58.036204 | I22: Total 2019-21 | J22: =SUM(J19:J21) -> 6193.98 | K22: =SUM(K19:K21) -> 6710.85 | L22: =SUM(L19:L21) -> 34880.22 | M22: =SUM(M19:M21) -> 47785.05
C26: ΔCP,DefPA,i,t (tCO2) | G26: Total | J26: ΔCP,DefLB,i,t (tCO2) | M26: Total
C27: Alluvial | D27: Collinsos (Hill forest) | E27: Montanosos | F27: Humedales (Aguajal) | G27: ΔCP,DefPA,i,t | J27: Anthropogenic (forest) | K27: Humedales – vegetacion inundable | L27: Vegetacion de tierra firme | M27: ΔCP,DefLB,i,t
B28: 2019 | C28: =C19*Stocks!F$16 -> 383.74863 | D28: =D19*Stocks!F$17 -> 2910.2367 | E28: =E19*Stocks!F$19 -> 9863.3654 | F28: =F19*Stocks!F$18 -> 125.31337 | G28: =SUM(C28:F28) -> 13282.664 | I28: 2019 | J28: =J19*Stocks!F$22 -> 1163114.5 | K28: =K19*Stocks!F20 -> 1587790.4 | L28: =L19*Stocks!F$21 -> 6111355.6 | M28: =SUM(J28:L28) -> 8862260.5
B29: 2020 | C29: =C20*Stocks!F$16 -> 383.74863 | D29: =D20*Stocks!F$17 -> 2910.2367 | E29: =E20*Stocks!F$19 -> 9863.3654 | F29: =F20*Stocks!F$18 -> 125.31337 | G29: =SUM(C29:F29) -> 13282.664 | I29: 2020 | J29: =J20*Stocks!F$22 -> 1163114.5 | K29: =K20*Stocks!F$20 -> 1587790.4 | L29: =L20*Stocks!F$21 -> 6111355.6 | M29: =SUM(J29:L29) -> 8862260.5
B30: 2021 | C30: =C21*Stocks!F$16 -> 146.18995 | D30: =D21*Stocks!F$17 -> 1108.6616 | E30: =E21*Stocks!F$19 -> 3757.4725 | F30: =F21*Stocks!F$18 -> 47.738427 | G30: =SUM(C30:F30) -> 5060.0625 | I30: 2021 | J30: =J21*Stocks!F$22 -> 443091.25 | K30: =K21*Stocks!F$20 -> 604872.53 | L30: =L21*Stocks!F$21 -> 2328135.5 | M30: =SUM(J30:L30) -> 3376099.2
B31: Total 2019-21 | C31: =C22*Stocks!F16 -> 913.6872 | D31: =D22*Stocks!F$17 -> 6929.1349 | E31: =E22*Stocks!F$19 -> 23484.203 | F31: =F22*Stocks!F$18 -> 298.36517 | G31: =SUM(C31:F31) -> 31625.391 | I31: Total 2019-21 | J31: =SUM(J28:J30) -> 2769320.3 | K31: =SUM(K28:K30) -> 3780453.3 | L31: =SUM(L28:L30) -> 14550847 | M31: =SUM(M28:M30) -> 21100620
C49: =C48/2 -> 0 | D49: =D48/2 -> 0 | E49: =E48/2 -> 0 | F49: =F48/2 -> 0

Sheet cumulative UNC
G1: includes RRD subset 2 only (RRD subset 1, Huimbayoc, has a baseline rate of zero, thus uncertainty contribution = zero)
G4: from PD
F5: stocks | G5: population | H5: ha | J5: cumulative | M5: CREDD, t *
E6: year | F6: UncertaintyBSL,SS | G6: total change | H6: modeled defor | I6: UncertaintyBSL,RATE,t | J6: UncertaintyBSL,RATE,t* | K6: UncertaintyBSL,t* | L6: CREDD_ERROR,t* | M6: adjustment
E7: 2009 | F7: ='[1]inventory stats'!$N$52 -> 0.075296153 | G7: ='[1]pop proj'!E20 -> 9732.6098 | H7: =2.2304*G7 + 1796.4 -> 23504.013 | I7: =((H7+2*('[1]defor rate'!$K$4*(SQRT((1/13)+(((G7-'[1]defor rate'!$I$22)^2)/'[1]defor rate'!$M$22)))))-H7)/H7 -> 0.20756384 | J7: =I7 -> 0.20756384 | K7: =SQRT(J7^2+F7^2) -> 0.22079913 | L7: =K7 -> 0.22079913 | M7: =IF((1-L7+0.15)>1,1,1-L7+0.15) -> 0.92920087
E8: 2010 | F8: ='[1]inventory stats'!$N$52 -> 0.075296153 | G8: ='[1]pop proj'!F20 -> 11125 | H8: =2.2304*G8 + 1796.4 -> 26609.6 | I8: =((H8+2*('[1]defor rate'!$K$4*(SQRT((1/13)+(((G8-'[1]defor rate'!$I$22)^2)/'[1]defor rate'!$M$22)))))-H8)/H8 -> 0.21739486 | J8: =SQRT((I7*H7)^2+(I8*H8)^2)/SUM(H$7:H8) -> 0.15100333 | K8: =SQRT(J8^2+F8^2) -> 0.16873505 | L8: =K8 -> 0.16873505 | M8: =IF((1-L8+0.15)>1,1,1-L8+0.15) -> 0.98126495
E9: 2011 | F9: ='[1]inventory stats'!$N$52 -> 0.075296153 | G9: ='[1]pop proj'!G20 -> 12754.229 | H9: =2.2304*G9 + 1796.4 -> 30243.433 | I9: =((H9+2*('[1]defor rate'!$K$4*(SQRT((1/13)+(((G9-'[1]defor rate'!$I$22)^2)/'[1]defor rate'!$M$22)))))-H9)/H9 -> 0.22680053 | J9: =SQRT((I8*H8)^2+(I9*H9)^2+(I7*H7)^2)/SUM(H$7:H9) -> 0.12710013 | K9: =SQRT(J9^2+F9^2) -> 0.14772933 | L9: =K9 -> 0.14772933 | M9: =IF((1-L9+0.15)>1,1,1-L9+0.15) -> 1
E10: 2012 | F10: ='[1]inventory stats'!$N$52 -> 0.075296153 | G10: ='[1]pop proj'!H20 -> 14665.499 | H10: =2.2304*G10 + 1796.4 -> 34506.328 | I10: =((H10+2*('[1]defor rate'!$K$4*(SQRT((1/13)+(((G10-'[1]defor rate'!$I$22)^2)/'[1]defor rate'!$M$22)))))-H10)/H10 -> 0.23564589 | J10: =SQRT((I$9*H$9)^2+(I$10*H$10)^2+(I$8*H$8)^2+(I$7*H$7)^2)/SUM(H$7:H10) -> 0.11365609 | K10: =SQRT(J10^2+F10^2) -> 0.13633494 | L10: =K10 -> 0.13633494 | M10: =IF((1-L10+0.15)>1,1,1-L10+0.15) -> 1
E11: 2013 | F11: ='[1]inventory stats'!$N$52 -> 0.075296153 | G11: ='[1]pop proj'!I20 -> 16913.209 | H11: =2.2304*G11 + 1796.4 -> 39519.62 | I11: =((H11+2*('[1]defor rate'!$K$4*(SQRT((1/13)+(((G11-'[1]defor rate'!$I$22)^2)/'[1]defor rate'!$M$22)))))-H11)/H11 -> 0.24385018 | J11: =SQRT((I$11*H$11)^2+(I$9*H$9)^2+(I$10*H$10)^2+(I$8*H$8)^2+(I$7*H$7)^2)/SUM(H$7:H11) -> 0.10510566 | K11: =SQRT(J11^2+F11^2) -> 0.12929312 | L11: =K11 -> 0.12929312 | M11: =IF((1-L11+0.15)>1,1,1-L11+0.15) -> 1
E12: 2014 | F12: ='[1]inventory stats'!$N$52 -> 0.075296153 | G12: ='[1]pop proj'!J20 -> 19562.903 | H12: =2.2304*G12 + 1796.4 -> 45429.499 | I12: =((H12+2*('[1]defor rate'!$K$4*(SQRT((1/13)+(((G12-'[1]defor rate'!$I$22)^2)/'[1]defor rate'!$M$22)))))-H12)/H12 -> 0.25137292 | J12: =SQRT((I$12*H$12)^2+(I$11*H$11)^2+(I$9*H$9)^2+(I$10*H$10)^2+(I$8*H$8)^2+(I$7*H$7)^2)/SUM(H$7:H12) -> 0.099303833 | K12: =SQRT(J12^2+F12^2) -> 0.12462248 | L12: =K12 -> 0.12462248 | M12: =IF((1-L12+0.15)>1,1,1-L12+0.15) -> 1
E13: 2015 | F13: ='[1]inventory stats'!$N$52 -> 0.075296153 | G13: ='[1]pop proj'!K20 -> 22693.638 | H13: =2.2304*G13 + 1796.4 -> 52412.291 | I13: =((H13+2*('[1]defor rate'!$K$4*(SQRT((1/13)+(((G13-'[1]defor rate'!$I$22)^2)/'[1]defor rate'!$M$22)))))-H13)/H13 -> 0.25820322 | J13: =SQRT((I$13*H$13)^2+(I$12*H$12)^2+(I$11*H$11)^2+(I$9*H$9)^2+(I$10*H$10)^2+(I$8*H$8)^2+(I$7*H$7)^2)/SUM(H$7:H13) -> 0.095223687 | K13: =SQRT(J13^2+F13^2) -> 0.1213963 | L13: =K13 -> 0.1213963 | M13: =IF((1-L13+0.15)>1,1,1-L13+0.15) -> 1
E14: 2016 | F14: ='[1]inventory stats'!$N$52 -> 0.075296153 | G14: ='[1]pop proj'!L20 -> 26400.861 | H14: =2.2304*G14 + 1796.4 -> 60680.881 | I14: =((H14+2*('[1]defor rate'!$K$4*(SQRT((1/13)+(((G14-'[1]defor rate'!$I$22)^2)/'[1]defor rate'!$M$22)))))-H14)/H14 -> 0.26435163 | J14: =SQRT((I$14*H$14)^2+(I$13*H$13)^2+(I$12*H$12)^2+(I$11*H$11)^2+(I$9*H$9)^2+(I$10*H$10)^2+(I$8*H$8)^2+(I$7*H$7)^2)/SUM(H$7:H14) -> 0.092302585 | K14: =SQRT(J14^2+F14^2) -> 0.11911876 | L14: =K14 -> 0.11911876 | M14: =IF((1-L14+0.15)>1,1,1-L14+0.15) -> 1
E15: 2017 | F15: ='[1]inventory stats'!$N$52 -> 0.075296153 | G15: ='[1]pop proj'!M20 -> 30799.924 | H15: =2.2304*G15 + 1796.4 -> 70492.551 | I15: =((H15+2*('[1]defor rate'!$K$4*(SQRT((1/13)+(((G15-'[1]defor rate'!$I$22)^2)/'[1]defor rate'!$M$22)))))-H15)/H15 -> 0.26984395 | J15: =SQRT((I$15*H$15)^2+(I$14*H$14)^2+(I$13*H$13)^2+(I$12*H$12)^2+(I$11*H$11)^2+(I$9*H$9)^2+(I$10*H$10)^2+(I$8*H$8)^2+(I$7*H$7)^2)/SUM(H$7:H15) -> 0.090202091 | K15: =SQRT(J15^2+F15^2) -> 0.11749863 | L15: =K15 -> 0.11749863 | M15: =IF((1-L15+0.15)>1,1,1-L15+0.15) -> 1
E16: 2018 | F16: ='[1]inventory stats'!$N$52 -> 0.075296153 | G16: ='[1]pop proj'!N20 -> 36030.359 | H16: =2.2304*G16 + 1796.4 -> 82158.513 | I16: =((H16+2*('[1]defor rate'!$K$4*(SQRT((1/13)+(((G16-'[1]defor rate'!$I$22)^2)/'[1]defor rate'!$M$22)))))-H16)/H16 -> 0.27471636 | J16: =SQRT((I$16*H$16)^2+(I$15*H$15)^2+(I$14*H$14)^2+(I$13*H$13)^2+(I$12*H$12)^2+(I$11*H$11)^2+(I$9*H$9)^2+(I$10*H$10)^2+(I$8*H$8)^2+(I$7*H$7)^2)/SUM(H$7:H16) -> 0.088704075 | K16: =SQRT(J16^2+F16^2) -> 0.11635258 | L16: =K16 -> 0.11635258 | M16: =IF((1-L16+0.15)>1,1,1-L16+0.15) -> 1
C17: Assumed to be constant | E17: 2019 | F17: 0.075296153 | G17: 36030.359 | H17: 82158.513 | I17: 0.27471636 | J17: 0.088704075 | K17: 0.11635258 | L17: 0.11635258 | M17: 1
E18: 2020 | F18: 0.075296153 | G18: 36030.359 | H18: 82158.513 | I18: 0.27471636 | J18: 0.088704075 | K18: 0.11635258 | L18: 0.11635258 | M18: 1
E19: 2021
F24: Adjusted_ CREDD, t
F25: eq 11 X-UNC
F26: Cumulative total net GHG emission reductions through time t adjusted to account for uncertainty; t CO2-e | G26: Cumulative total net GHG emission reductions through time t; t CO2-e | H26: Cumulative uncertainty for REDD project activity through time t; %
E27: year | F27: Adjusted_ CREDD, t | G27: CREDD,t | H27: CREDD _ ERRORt*
E28: 2013
E29: 2014
F38: VCUt | G38: Adjusted_CREDD,t2 | H38: Adjusted_CREDD,t1 | I38: BufferTOTAL

Sheet baseline_tables_2020
C1: ha | D1: ha | E1: ha
B2: Year | C2: Reference region | D2: Project area | E2: Leakage belt
B3: 2009 | C3: 24214.5 | D3: 4256.82 | E3: 19957.68
B4: 2010 | C4: 27320.04 | D4: 5420.34 | E4: 21899.7
B5: 2011 | C5: 30954.06 | D5: 3216.33 | E5: 27737.73
B6: 2012 | C6: 35216.91 | D6: 3818.16 | E6: 31398.75
B7: 2013 | C7: 40230.18 | D7: 4754.79 | E7: 35475.39
B8: 2014 | C8: 46140.21 | D8: 6254.28 | E8: 39885.93
B9: 2015 | C9: 53123.04 | D9: 7939.89 | E9: 45183.15
B10: 2016 | C10: 57723.84 | D10: 9533.52 | E10: 48190.32
B11: 2017 | C11: 59950.8 | D11: 10748.34 | E11: 49202.46
B12: 2018 | C12: 62040.6 | D12: 12409.38 | E12: 49631.22
B13: Total | C13: =SUM(C3:C12) -> 436914.18 | D13: =SUM(D3:D12) -> 68351.85 | E13: =SUM(E3:E12) -> 368562.33
B15: Project area baseline by vegetation types | I15: Emissions from aboveground biomass
C16: Aunplanned,i,t (ha) | I16: CBSL (t CO2-e)
B17: YEAR | C17: Alluvial | D17: Collinsos | E17: Montanosos | F17: Humedales | G17: TOTAL | H17: YEAR | I17: Alluvial | J17: Collinsos | K17: Montanosos | L17: Humedales | M17: CBSL | P17: Project area summary 2019-2021
B18: 2009 | C18: 46.89 | D18: 1550.7 | E18: 2646.99 | F18: 12.24 | G18: =SUM(C18:F18) -> 4256.82 | H18: 2009 | I18: =C18*'[2]carbon stock estimates'!C$4 -> 10023.519 | J18: =D18*'[2]carbon stock estimates'!C$5 -> 543572.04 | K18: =E18*'[2]carbon stock estimates'!C$7 -> 1347141.4 | L18: =F18*'[2]carbon stock estimates'!C$6 -> 3460.248 | M18: =SUM(I18:L18) -> 1904197.3
B19: 2010 | C19: 715.86 | D19: 3423.51 | E19: 1271.97 | F19: 9 | G19: =SUM(C19:F19) -> 5420.34 | H19: 2010 | I19: =C19*'[2]carbon stock estimates'!C$4 -> 153027.01 | J19: =D19*'[2]carbon stock estimates'!C$5 -> 1200054.4 | K19: =E19*'[2]carbon stock estimates'!C$7 -> 647347.93 | L19: =F19*'[2]carbon stock estimates'!C$6 -> 2544.3 | M19: =SUM(I19:L19) -> 2002973.6 | Q19: Aunplanned,i,t (ha) | R19: CBSL (t CO2-e)
B20: 2011 | C20: 93.69 | D20: 2108.34 | E20: 993.24 | F20: 21.06 | G20: =SUM(C20:F20) -> 3216.33 | H20: 2011 | I20: =C20*'[2]carbon stock estimates'!C$4 -> 20027.799 | J20: =D20*'[2]carbon stock estimates'!C$5 -> 739043.45 | K20: =E20*'[2]carbon stock estimates'!C$7 -> 505492.94 | L20: =F20*'[2]carbon stock estimates'!C$6 -> 5953.662 | M20: =SUM(I20:L20) -> 1270517.9
B21: 2012 | C21: 150.75 | D21: 2369.97 | E21: 1267.56 | F21: 29.88 | G21: =SUM(C21:F21) -> 3818.16 | H21: 2012 | I21: =C21*'[2]carbon stock estimates'!C$4 -> 32225.325 | J21: =D21*'[2]carbon stock estimates'!C$5 -> 830753.48 | K21: =E21*'[2]carbon stock estimates'!C$7 -> 645103.54 | L21: =F21*'[2]carbon stock estimates'!C$6 -> 8447.076 | M21: =SUM(I21:L21) -> 1516529.4 | P21: 2019 | Q21: 12409.38 | R21: 4873035.6
B22: 2013 | C22: 211.86 | D22: 2756.7 | E22: 1746.63 | F22: 39.6 | G22: =SUM(C22:F22) -> 4754.79 | H22: 2013 | I22: =C22*'[2]carbon stock estimates'!C$4 -> 45288.606 | J22: =D22*'[2]carbon stock estimates'!C$5 -> 966315.24 | K22: =E22*'[2]carbon stock estimates'!C$7 -> 888918.23 | L22: =F22*'[2]carbon stock estimates'!C$6 -> 11194.92 | M22: =SUM(I22:L22) -> 1911717 | P22: 2020 | Q22: 12409.38 | R22: 4873035.6
B23: 2014 | C23: 354.87 | D23: 3267.18 | E23: 2566.44 | F23: 65.79 | G23: =SUM(C23:F23) -> 6254.28 | H23: 2014 | I23: =C23*'[2]carbon stock estimates'!C$4 -> 75859.377 | J23: =D23*'[2]carbon stock estimates'!C$5 -> 1145255.5 | K23: =E23*'[2]carbon stock estimates'!C$7 -> 1306146.9 | L23: =F23*'[2]carbon stock estimates'!C$6 -> 18598.833 | M23: =SUM(I23:L23) -> 2545860.6 | P23: 2021 | Q23: 4963.752 | R23: 1949214.2
B24: 2015 | C24: 488.7 | D24: 4368.33 | E24: 2987.64 | F24: 95.22 | G24: =SUM(C24:F24) -> 7939.89 | H24: 2015 | I24: =C24*'[2]carbon stock estimates'!C$4 -> 104467.77 | J24: =D24*'[2]carbon stock estimates'!C$5 -> 1531245.3 | K24: =E24*'[2]carbon stock estimates'!C$7 -> 1520509.6 | L24: =F24*'[2]carbon stock estimates'!C$6 -> 26918.694 | M24: =SUM(I24:L24) -> 3183141.3 | Q24: =SUM(Q21:Q23) -> 29782.512 | R24: =SUM(R21:R23) -> 11695285
B25: 2016 | C25: 579.33 | D25: 5518.26 | E25: 3361.14 | F25: 74.79 | G25: =SUM(C25:F25) -> 9533.52 | H25: 2016 | I25: =C25*'[2]carbon stock estimates'!C$4 -> 123841.44 | J25: =D25*'[2]carbon stock estimates'!C$5 -> 1934334.1 | K25: =E25*'[2]carbon stock estimates'!C$7 -> 1710596.2 | L25: =F25*'[2]carbon stock estimates'!C$6 -> 21143.133 | M25: =SUM(I25:L25) -> 3789914.8
B26: 2017 | C26: 795.87 | D26: 6085.8 | E26: 3807.99 | F26: 58.68 | G26: =SUM(C26:F26) -> 10748.34 | H26: 2017 | I26: =C26*'[2]carbon stock estimates'!C$4 -> 170130.48 | J26: =D26*'[2]carbon stock estimates'!C$5 -> 2133275.8 | K26: =E26*'[2]carbon stock estimates'!C$7 -> 1938013 | L26: =F26*'[2]carbon stock estimates'!C$6 -> 16588.836 | M26: =SUM(I26:L26) -> 4258008.1
B27: 2018 | C27: 1227.06 | D27: 6724.98 | E27: 4390.65 | F27: 66.69 | G27: =SUM(C27:F27) -> 12409.38 | H27: 2018 | I27: =C27*'[2]carbon stock estimates'!C$4 -> 262304.53 | J27: =D27*'[2]carbon stock estimates'!C$5 -> 2357329.7 | K27: =E27*'[2]carbon stock estimates'!C$7 -> 2234548.1 | L27: =F27*'[2]carbon stock estimates'!C$6 -> 18853.263 | M27: =SUM(I27:L27) -> 4873035.6 | N27: pro-rated (project year = Aug-Aug)
B28: 2019 | G28: =G27 -> 12409.38 | M28: =M27 -> 4873035.6 | N28: =365/365 -> 1
B29: 2020 | G29: =G28 -> 12409.38 | M29: =M28 -> 4873035.6 | N29: =365/365 -> 1
B30: 2021 | G30: =G28*0.4 -> 4963.752 | M30: =M28*0.4 -> 1949214.2 | N30: =SUM(24,30,31,30,31)/365 -> 0.4
B31: TOTAL | C31: =SUM(C18:C27) -> 4664.88 | D31: =SUM(D18:D27) -> 38173.77 | E31: =SUM(E18:E27) -> 25040.25 | F31: =SUM(F18:F27) -> 472.95 | G31: =SUM(G18:G30) -> 98134.362 | H31: total | I31: =SUM(I18:I27) -> 997195.85 | J31: =SUM(J18:J27) -> 13381179 | K31: =SUM(K18:K27) -> 12743818 | L31: =SUM(L18:L27) -> 133702.96 | M31: =SUM(M18:M30) -> 38951181
B33: Leakage belt baseline by vegetation types
C34: ha | D34: ha | E34: ha | H34: Emissions from aboveground biomass
B35: YEAR | C35: Anthropogenic Forest | D35: Humedales-vegetacion inundable | E35: Vegetacion de Tierra Firme | F35: TOTAL | G35: YEAR | H35: Anthropogenic Forest | I35: Humedales-vegetacion inundable | J35: Vegetacion de Tierra Firme | K35: CBSL
B36: 2009 | C36: 1416.96 | D36: 3786.03 | E36: 14754.69 | F36: =SUM(C36:E36) -> 19957.68 | G36: 2009 | H36: =C36*'[2]carbon stock estimates'!C$10 -> 518892.12 | I36: =D36*'[2]carbon stock estimates'!C$8 -> 1721715 | J36: =E36*'[2]carbon stock estimates'!C$9 -> 5067365.7 | K36: =SUM(H36:J36) -> 7307972.8
B37: 2010 | C37: 3110.76 | D37: 1139.85 | E37: 17649.09 | F37: =SUM(C37:E37) -> 21899.7 | G37: 2010 | H37: =C37*'[2]carbon stock estimates'!C$10 -> 1139163.3 | I37: =D37*'[2]carbon stock estimates'!C$8 -> 518352.15 | J37: =E37*'[2]carbon stock estimates'!C$9 -> 6061421.4 | K37: =SUM(H37:J37) -> 7718936.8
B38: 2011 | C38: 3387.42 | D38: 1435.68 | E38: 22914.63 | F38: =SUM(C38:E38) -> 27737.73 | G38: 2011 | H38: =C38*'[2]carbon stock estimates'!C$10 -> 1240476.5 | I38: =D38*'[2]carbon stock estimates'!C$8 -> 652882.24 | J38: =E38*'[2]carbon stock estimates'!C$9 -> 7869823.8 | K38: =SUM(H38:J38) -> 9763182.5
B39: 2012 | C39: 3443.94 | D39: 1638.9 | E39: 26315.91 | F39: =SUM(C39:E39) -> 31398.75 | G39: 2012 | H39: =C39*'[2]carbon stock estimates'!C$10 -> 1261174.2 | I39: =D39*'[2]carbon stock estimates'!C$8 -> 745297.49 | J39: =E39*'[2]carbon stock estimates'!C$9 -> 9037962.8 | K39: =SUM(H39:J39) -> 11044434
B40: 2013 | C40: 3558.51 | D40: 1943.64 | E40: 29973.24 | F40: =SUM(C40:E40) -> 35475.39 | G40: 2013 | H40: =C40*'[2]carbon stock estimates'!C$10 -> 1303129.8 | I40: =D40*'[2]carbon stock estimates'!C$8 -> 883879.44 | J40: =E40*'[2]carbon stock estimates'!C$9 -> 10294040 | K40: =SUM(H40:J40) -> 12481049
B41: 2014 | C41: 3718.98 | D41: 2411.28 | E41: 33755.67 | F41: =SUM(C41:E41) -> 39885.93 | G41: 2014 | H41: =C41*'[2]carbon stock estimates'!C$10 -> 1361894.1 | I41: =D41*'[2]carbon stock estimates'!C$8 -> 1096540.9 | J41: =E41*'[2]carbon stock estimates'!C$9 -> 11593082 | K41: =SUM(H41:J41) -> 14051517
B42: 2015 | C42: 4170.51 | D42: 2957.67 | E42: 38054.97 | F42: =SUM(C42:E42) -> 45183.15 | G42: 2015 | H42: =C42*'[2]carbon stock estimates'!C$10 -> 1527244.8 | I42: =D42*'[2]carbon stock estimates'!C$8 -> 1345014.4 | J42: =E42*'[2]carbon stock estimates'!C$9 -> 13069637 | K42: =SUM(H42:J42) -> 15941897
B43: 2016 | C43: 3938.85 | D43: 3567.69 | E43: 40683.78 | F43: =SUM(C43:E43) -> 48190.32 | G43: 2016 | H43: =C43*'[2]carbon stock estimates'!C$10 -> 1442410.7 | I43: =D43*'[2]carbon stock estimates'!C$8 -> 1622423.8 | J43: =E43*'[2]carbon stock estimates'!C$9 -> 13972479 | K43: =SUM(H43:J43) -> 17037313 | O43: Leakage Belt
B44: 2017 | C44: 3628.53 | D44: 3910.05 | E44: 41663.88 | F44: =SUM(C44:E44) -> 49202.46 | G44: 2017 | H44: =C44*'[2]carbon stock estimates'!C$10 -> 1328771.2 | I44: =D44*'[2]carbon stock estimates'!C$8 -> 1778113.6 | J44: =E44*'[2]carbon stock estimates'!C$9 -> 14309085 | K44: =SUM(H44:J44) -> 17415970 | P44: Aunplanned,i,t (ha) | Q44: CBSL (t CO2-e)
B45: 2018 | C45: 2692.98 | D45: 4639.77 | E45: 42298.47 | F45: =SUM(C45:E45) -> 49631.22 | G45: 2018 | H45: =C45*'[2]carbon stock estimates'!C$10 -> 986171.88 | I45: =D45*'[2]carbon stock estimates'!C$8 -> 2109957.3 | J45: =E45*'[2]carbon stock estimates'!C$9 -> 14527029 | K45: =SUM(H45:J45) -> 17623159
B46: 2019 | F46: =F45 -> 49631.22 | G46: 2019 | K46: =K45 -> 17623159 | O46: 2019 | P46: 49631.22 | Q46: 17623159
B47: 2020 | F47: =F46 -> 49631.22 | G47: 2020 | K47: =K46 -> 17623159 | O47: 2020 | P47: 49631.22 | Q47: 17623159
B48: 2021 | F48: =F46*0.4 -> 19852.488 | G48: 2021 | K48: =K46*0.4 -> 7049263.4 | O48: 2021 | P48: 19852.488 | Q48: 7049263.4
B49: TOTAL | C49: =SUM(C36:C45) -> 33067.44 | D49: =SUM(D36:D45) -> 27430.56 | E49: =SUM(E36:E45) -> 308064.33 | F49: =SUM(C49:E49) -> 368562.33 | G49: Total | H49: =SUM(H36:H45) -> 12109329 | I49: =SUM(I36:I45) -> 12474176 | J49: =SUM(J36:J45) -> 1.0580193e+08 | K49: =SUM(K36:K48) -> 1.7268101e+08 | P49: =SUM(P46:P48) -> 119114.93 | Q49: =SUM(Q46:Q48) -> 42295581
B54: Project Area
D55: Net greenhouse gas emissions in the baseline from unplanned deforestation; t CO2-e
C56: AGB only | E56: AGB only
B57: Year | C57: CBSL | D57: CWP | E57: C post | F57: BGB & DW | G57: CTOT
B58: 2009 | C58: =M18 -> 1904197.3 | D58: 0 | E58: =G18*'[2]carbon stock estimates'!$C$13 -> 132355.64 | F58: ='[2]BSL PA BGB'!C19+'[2]BSL PA DW'!C19 -> 62668.506 | G58: =C58-D58-E58+F58 -> 1834510.1
B59: 2010 | C59: =M19 -> 2002973.6 | D59: 0 | E59: =G19*'[2]carbon stock estimates'!$C$13 -> 168532.51 | F59: ='[2]BSL PA BGB'!C20+'[2]BSL PA DW'!C20 -> 126139.76 | G59: =C59-D59-E59+F59 -> 1960580.9
B60: 2011 | C60: =M20 -> 1270517.9 | D60: 0 | E60: =G20*'[2]carbon stock estimates'!$C$13 -> 100004.09 | F60: ='[2]BSL PA BGB'!C21+'[2]BSL PA DW'!C21 -> 166512.36 | G60: =C60-D60-E60+F60 -> 1337026.1
B61: 2012 | C61: =M21 -> 1516529.4 | D61: 0 | E61: =G21*'[2]carbon stock estimates'!$C$13 -> 118716.55 | F61: ='[2]BSL PA BGB'!C22+'[2]BSL PA DW'!C22 -> 214881.61 | G61: =C61-D61-E61+F61 -> 1612694.5
B62: 2013 | C62: =M22 -> 1911717 | D62: 0 | E62: =G22*'[2]carbon stock estimates'!$C$13 -> 147838.82 | F62: ='[2]BSL PA BGB'!C23+'[2]BSL PA DW'!C23 -> 276152.29 | G62: =C62-D62-E62+F62 -> 2040030.5
B63: 2014 | C63: =M23 -> 2545860.6 | D63: 0 | E63: =G23*'[2]carbon stock estimates'!$C$13 -> 194461.88 | F63: ='[2]BSL PA BGB'!C24+'[2]BSL PA DW'!C24 -> 358246.38 | G63: =C63-D63-E63+F63 -> 2709645.1
B64: 2015 | C64: =M24 -> 3183141.3 | D64: 0 | E64: =G24*'[2]carbon stock estimates'!$C$13 -> 246871.89 | F64: ='[2]BSL PA BGB'!C25+'[2]BSL PA DW'!C25 -> 460490.42 | G64: =C64-D64-E64+F64 -> 3396759.9
B65: 2016 | C65: =M25 -> 3789914.8 | D65: 0 | E65: =G25*'[2]carbon stock estimates'!$C$13 -> 296422 | F65: ='[2]BSL PA BGB'!C26+'[2]BSL PA DW'!C26 -> 581869.95 | G65: =C65-D65-E65+F65 -> 4075362.8
B66: 2017 | C66: =M26 -> 4258008.1 | D66: 0 | E66: =G26*'[2]carbon stock estimates'!$C$13 -> 334193.93 | F66: ='[2]BSL PA BGB'!C27+'[2]BSL PA DW'!C27 -> 718410.32 | G66: =C66-D66-E66+F66 -> 4642224.5
B67: 2018 | C67: =M27 -> 4873035.6 | D67: 0 | E67: =G27*'[2]carbon stock estimates'!$C$13 -> 385839.99 | F67: ='[2]BSL PA BGB'!C28+'[2]BSL PA DW'!C28 -> 874941.71 | G67: =C67-D67-E67+F67 -> 5362137.3 | H67: pro-rated (project year = Aug-Aug)
B68: 2019 | G68: =G$67*H68 -> 5362137.3 | H68: =365/365 -> 1
B69: 2020 | G69: 5362137.3 | H69: =365/365 -> 1
B70: 2021 | G70: =G$67*H70 -> 2144854.9 | H70: =SUM(24,30,31,30,31)/365 -> 0.4 | I70: ending Dec 31 2020
F71: extension sub-total | G71: =SUM(G68:G70) -> 12869130
E72: ΔCTOT | G72: =SUM(G58:G67) -> 28970972
B74: Leakage Belt
C75: AGB only | E75: AGB only
B76: Year | C76: CBSL | D76: CWP | E76: C post | F76: BGB & DW | G76: CTOT
B77: 2009 | C77: =K36 -> 7307972.8 | D77: 0 | E77: =F36*'[2]carbon stock estimates'!$C$13 -> 620536.33 | F77: ='[2]BSL LB BGB'!C19+'[2]BSL LB DW'!C19 -> 223404.28 | G77: =C77-D77-E77+F77 -> 6910840.7
B78: 2010 | C78: =K37 -> 7718936.8 | D78: 0 | E78: =F37*'[2]carbon stock estimates'!$C$13 -> 680918.8 | F78: ='[2]BSL LB BGB'!C20+'[2]BSL LB DW'!C20 -> 459156.1 | G78: =C78-D78-E78+F78 -> 7497174.1
B79: 2011 | C79: =K38 -> 9763182.5 | D79: 0 | E79: =F38*'[2]carbon stock estimates'!$C$13 -> 862438.38 | F79: ='[2]BSL LB BGB'!C21+'[2]BSL LB DW'!C21 -> 757330.36 | G79: =C79-D79-E79+F79 -> 9658074.5
B80: 2012 | C80: =K39 -> 11044434 | D80: 0 | E80: =F39*'[2]carbon stock estimates'!$C$13 -> 976269.04 | F80: ='[2]BSL LB BGB'!C22+'[2]BSL LB DW'!C22 -> 1094627.5 | G80: =C80-D80-E80+F80 -> 11162793
B81: 2013 | C81: =K40 -> 12481049 | D81: 0 | E81: =F40*'[2]carbon stock estimates'!$C$13 -> 1103022.4 | F81: ='[2]BSL LB BGB'!C23+'[2]BSL LB DW'!C23 -> 1475799.3 | G81: =C81-D81-E81+F81 -> 12853826
B82: 2014 | C82: =K41 -> 14051517 | D82: 0 | E82: =F41*'[2]carbon stock estimates'!$C$13 -> 1240157.6 | F82: ='[2]BSL LB BGB'!C24+'[2]BSL LB DW'!C24 -> 1904946.5 | G82: =C82-D82-E82+F82 -> 14716305
B83: 2015 | C83: =K42 -> 15941897 | D83: 0 | E83: =F42*'[2]carbon stock estimates'!$C$13 -> 1404862 | F83: ='[2]BSL LB BGB'!C25+'[2]BSL LB DW'!C25 -> 2391846.2 | G83: =C83-D83-E83+F83 -> 16928881
B84: 2016 | C84: =K43 -> 17037313 | D84: 0 | E84: =F43*'[2]carbon stock estimates'!$C$13 -> 1498362.8 | F84: ='[2]BSL LB BGB'!C26+'[2]BSL LB DW'!C26 -> 2912226.4 | G84: =C84-D84-E84+F84 -> 18451177
B85: 2017 | C85: =K44 -> 17415970 | D85: 0 | E85: =F44*'[2]carbon stock estimates'!$C$13 -> 1529832.8 | F85: ='[2]BSL LB BGB'!C27+'[2]BSL LB DW'!C27 -> 3444186.4 | G85: =C85-D85-E85+F85 -> 19330324
B86: 2018 | C86: =K45 -> 17623159 | D86: 0 | E86: =F45*'[2]carbon stock estimates'!$C$13 -> 1543164.1 | F86: ='[2]BSL LB BGB'!C28+'[2]BSL LB DW'!C28 -> 3982512.9 | G86: =C86-D86-E86+F86 -> 20062507
B87: 2019 | G87: =G$86*H87 -> 20062507 | H87: =365/365 -> 1
B88: 2020 | G88: 20062507
B89: 2021 | G89: =G$86*H89 -> 8025003 | H89: =SUM(24,30,31,30,31)/365 -> 0.4 | I89: ending Dec 31 2020
F90: extension sub-total | G90: =SUM(G87:G89) -> 48150018
E91: ΔCTOT | G91: =SUM(G77:G86) -> 1.375719e+08

Sheet inventory stats
N1: ALL POOLS
F2: ARBOLES VIVOS EN PIE | G2: ARBOLES VIVOS EN PIE | H2: MADERA MUERTA CAIDA | I2: MADERA MUERTA EN PIE | J2: DEAD WOOD TOTAL | K2: TOTAL | N2: Alluvial forest | O2: Hill Forest | P2: Aguajal | Q2: Mountain forest | R2: Area-weighted average
B3: strata | C3: Cluster | D3: UTM N | E3: UTM E | F3: AGB t C/ha | G3: BGB t C/ha | H3: t C/ha | I3: t C/ha | J3: t C/ha | K3: t C/ha | N3: live and dead above- and belowground biomass C t C/ha
B4: =RIGHT(C4,1) -> a | C4: 1a | D4: 9128822 | E4: 357607 | F4: 65.662448 | G4: 16.278939 | H4: 4.1827886 | I4: 0.75896416 | J4: =H4+I4 -> 4.9417528 | K4: =F4+G4+J4 -> 86.88314 | N4: 86.88314 | O4: 133.10411 | P4: 98.410466 | Q4: 115.04624
B5: =RIGHT(C5,1) -> a | C5: 2a | D5: 9253491 | E5: 397776 | F5: 72.935949 | G5: 17.942148 | H5: 3.3181778 | I5: 1.1010431 | J5: =H5+I5 -> 4.4192209 | K5: =F5+G5+J5 -> 95.297318 | N5: 95.297318 | O5: 88.912147 | P5: 131.47791 | Q5: 175.88062
B6: =RIGHT(C6,1) -> a | C6: 3a | D6: 9153581 | E6: 401520 | F6: 87.635668 | G6: 21.267332 | H6: 1.7459495 | I6: 1.5496162 | J6: =H6+I6 -> 3.2955657 | K6: =F6+G6+J6 -> 112.19857 | N6: 112.19857 | O6: 97.564425 | P6: 116.84857 | Q6: 261.47425
B7: =RIGHT(C7,1) -> a | C7: 4a | D7: 9135872 | E7: 354243 | F7: 35.770506 | G7: 9.2758712 | H7: 8.2121199 | I7: 0 | J7: =H7+I7 -> 8.2121199 | K7: =F7+G7+J7 -> 53.258497 | N7: 53.258497 | O7: 164.50184 | P7: 78.652245 | Q7: 178.25558
B8: =RIGHT(C8,1) -> a | C8: 5a | D8: 9251654 | E8: 399320 | F8: 38.553056 | G8: 9.9421646 | H8: 17.467697 | I8: 0.97870494 | J8: =H8+I8 -> 18.446402 | K8: =F8+G8+J8 -> 66.941623 | N8: 66.941623 | O8: 123.13527 | P8: 83.455811 | Q8: 215.86552
B9: =RIGHT(C9,1) -> a | C9: 6a | D9: 9089403 | E9: 427114 | F9: 49.23197 | G9: 12.468419 | H9: 6.4920253 | I9: 0.32623498 | J9: =H9+I9 -> 6.8182603 | K9: =F9+G9+J9 -> 68.518649 | N9: 68.518649 | O9: 167.01203 | Q9: 199.59225
B10: =RIGHT(C10,1) -> c | C10: 10c | D10: 9169239 | E10: 388994 | F10: 103.95097 | G10: 24.91 | H10: 4.2431328 | I10: 0 | J10: =H10+I10 -> 4.2431328 | K10: =F10+G10+J10 -> 133.10411 | O10: 139.49486 | Q10: 233.88179
B11: =RIGHT(C11,1) -> c | C11: 11c | D11: 9152906 | E11: 401507 | F11: 66.898031 | G11: 16.562399 | H11: 2.8418372 | I11: 2.6098798 | J11: =H11+I11 -> 5.4517171 | K11: =F11+G11+J11 -> 88.912147 | O11: 100.35859 | Q11: 160.24539
B12: =RIGHT(C12,1) -> c | C12: 12c | D12: 9154258 | E12: 411849 | F12: 76.829557 | G12: 18.827373 | H12: 1.5812596 | I12: 0.32623498 | J12: =H12+I12 -> 1.9074946 | K12: =F12+G12+J12 -> 97.564425 | O12: 97.500775 | Q12: 198.26786
B13: =RIGHT(C13,1) -> c | C13: 13c | D13: 9281504 | E13: 404728 | F13: 119.16055 | G13: 28.267617 | H13: 17.073665 | I13: 0 | J13: =H13+I13 -> 17.073665 | K13: =F13+G13+J13 -> 164.50184 | O13: 141.6726 | Q13: 173.82568
B14: =RIGHT(C14,1) -> c | C14: 14c | D14: 9155411 | E14: 396808 | F14: 93.277699 | G14: 22.53226 | H14: 6.2650503 | I14: 1.0602637 | J14: =H14+I14 -> 7.325314 | K14: =F14+G14+J14 -> 123.13527 | O14: 135.731 | Q14: 126.47342
B15: =RIGHT(C15,1) -> c | C15: 15c | D15: 9161230 | E15: 368429 | F15: 122.97079 | G15: 29.103627 | H15: 14.937607 | I15: 0 | J15: =H15+I15 -> 14.937607 | K15: =F15+G15+J15 -> 167.01203 | O15: 166.76767 | Q15: 151.0111
B16: =RIGHT(C16,1) -> c | C16: 16c | D16: 9156394 | E16: 363086.25 | F16: 100.57047 | G16: 24.158955 | H16: 14.765432 | I16: 0 | J16: =H16+I16 -> 14.765432 | K16: =F16+G16+J16 -> 139.49486 | O16: 130.44673 | Q16: 249.5486
B17: =RIGHT(C17,1) -> c | C17: 17c | D17: 9161248 | E17: 368755 | F17: 78.169786 | G17: 19.131302 | H17: 3.0575024 | I17: 0 | J17: =H17+I17 -> 3.0575024 | K17: =F17+G17+J17 -> 100.35859 | O17: 168.40405 | Q17: 156.029
B18: =RIGHT(C18,1) -> c | C18: 18c | D18: 9139793 | E18: 330979 | F18: 65.56215 | G18: 16.255912 | H18: 15.682713 | I18: 0 | J18: =H18+I18 -> 15.682713 | K18: =F18+G18+J18 -> 97.500775 | O18: 128.39796 | Q18: 125.15005
B19: =RIGHT(C19,1) -> c | C19: 19c | D19: 9234834 | E19: 458959 | F19: 112.42373 | G19: 26.784589 | H19: 2.1380471 | I19: 0.32623498 | J19: =H19+I19 -> 2.4642821 | K19: =F19+G19+J19 -> 141.6726 | O19: 155.25135 | Q19: 161.58156
B20: =RIGHT(C20,1) -> c | C20: 1c | D20: 9161179 | E20: 368222 | F20: 99.517275 | G20: 23.924588 | H20: 7.8166717 | I20: 4.4724674 | J20: =H20+I20 -> 12.289139 | K20: =F20+G20+J20 -> 135.731 | O20: 141.64662 | Q20: 120.89561
B21: =RIGHT(C21,1) -> c | C21: 20c | D21: 9172390 | E21: 408369 | F21: 126.49054 | G21: 29.874197 | H21: 7.2221359 | I21: 3.1807911 | J21: =H21+I21 -> 10.402927 | K21: =F21+G21+J21 -> 166.76767 | O21: 131.72157 | Q21: 159.65766
... B23: =RIGHT(C23,1) -> c | C23: 22c | D23: 9214833 | E23: 404431 | F23: 127.65175 | G23: 30.128069 | H23: 7.4434371 | I23: 3.1807911 | J23: =H23+I23 -> 10.624228 | K23: =F23+G23+J23 -> 168.40405 | O23: 125.62993 | Q23: 231.04768
B24: =RIGHT(C24,1) -> c | C24: 23c | D24: 9216841 | E24: 398786 | F24: 92.51189 | G24: 22.360907 | H24: 9.6761289 | I24: 3.8490325 | J24: =H24+I24 -> 13.525161 | K24: =F24+G24+J24 -> 128.39796 | O24: 104.80266
B25: =RIGHT(C25,1) -> c | C25: 24c | D25: 9173098 | E25: 407937 | F25: 117.87245 | G25: 27.984547 | H25: 6.213563 | I25: 3.1807911 | J25: =H25+I25 -> 9.3943541 | K25: =F25+G25+J25 -> 155.25135 | O25: 112.26352
B26: =RIGHT(C26,1) -> c | C26: 25c | D26: 9156182 | E26: 396908 | F26: 110.23717 | G26: 26.301849 | H26: 5.1075963 | I26: 0 | J26: =H26+I26 -> 5.1075963 | K26: =F26+G26+J26 -> 141.64662 | O26: 97.443921
B27: =RIGHT(C27,1) -> c | C27: 26c | D27: 9168623 | E27: 386548 | F27: 103.01199 | G27: 24.70157 | H27: 2.7846352 | I27: 1.2233812 | J27: =H27+I27 -> 4.0080164 | K27: =F27+G27+J27 -> 131.72157 | O27: 122.84775
B28: =RIGHT(C28,1) -> c | C28: 27c | D28: 9216603 | E28: 405572 | F28: 123.46895 | G28: 29.212785 | H28: 17.418256 | I28: 0.32623498 | J28: =H28+I28 -> 17.744491 | K28: =F28+G28+J28 -> 170.42623 | O28: 124.58306
B29: =RIGHT(C29,1) -> c | C29: 28c | D29: 9078975 | E29: 420412 | F29: 97.05361 | G29: 23.37563 | H29: 5.2006885 | I29: 0 | J29: =H29+I29 -> 5.2006885 | K29: =F29+G29+J29 -> 125.62993 | O29: 104.14342
B30: =RIGHT(C30,1) -> c | C30: 29c | D30: 9169944 | E30: 387991 | F30: 80.353618 | G30: 19.625717 | H30: 3.7630635 | I30: 1.0602637 | J30: =H30+I30 -> 4.8233272 | K30: =F30+G30+J30 -> 104.80266 | O30: 104.08113
B31: =RIGHT(C31,1) -> c | C31: 2c | D31: 9156864 | E31: 411836 | F31: 78.440243 | G31: 19.192588 | H31: 13.162628 | I31: 1.4680574 | J31: =H31+I31 -> 14.630685 | K31: =F31+G31+J31 -> 112.26352 | O31: 82.292103
B32: =RIGHT(C32,1) -> c | C32: 30c | D32: 9216825 | E32: 406963 | F32: 72.058924 | G32: 17.742277 | H32: 7.1533673 | I32: 0.48935247 | J32: =H32+I32 -> 7.6427198 | K32: =F32+G32+J32 -> 97.443921 | O32: 91.74461
B33: =RIGHT(C33,1) -> c | C33: 31c | D33: 9167901 | E33: 387658 | F33: 93.246216 | G33: 22.525218 | H33: 7.0763206 | I33: 0 | J33: =H33+I33 -> 7.0763206 | K33: =F33+G33+J33 -> 122.84775 | O33: 155.3588
B34: =RIGHT(C34,1) -> c | C34: 32c | D34: 9155231 | E34: 412436 | F34: 95.359618 | G34: 22.997574 | H34: 3.9422237 | I34: 2.2836449 | J34: =H34+I34 -> 6.2258685 | K34: =F34+G34+J34 -> 124.58306 | O34: 173.66117
B35: =RIGHT(C35,1) -> c | C35: 33c | D35: 9088492 | E35: 424410 | F35: 79.214101 | G35: 19.367858 | H35: 5.5614602 | I35: 0 | J35: =H35+I35 -> 5.5614602 | K35: =F35+G35+J35 -> 104.14342 | O35: 120.96105
B36: =RIGHT(C36,1) -> c | C36: 3c | D36: 9156055 | E36: 396296 | F36: 79.904901 | G36: 19.52421 | H36: 4.6520156 | I36: 0 | J36: =H36+I36 -> 4.6520156 | K36: =F36+G36+J36 -> 104.08113 | O36: 100.51425
B37: =RIGHT(C37,1) -> c | C37: 4c | D37: 9152794 | E37: 402610 | F37: 59.511432 | G37: 14.861767 | H37: 6.7770818 | I37: 1.1418224 | J37: =H37+I37 -> 7.9189043 | K37: =F37+G37+J37 -> 82.292103 | M37: mean | N37: =AVERAGE(N4:N36) -> 80.516299 | O37: =AVERAGE(O4:O36) -> 127.34476 | P37: =AVERAGE(P4:P36) -> 101.769 | Q37: =AVERAGE(Q4:Q36) -> 183.17101 | R37: =N48 -> 150.97091
B38: =RIGHT(C38,1) -> c | C38: 5c | D38: 9155271 | E38: 397364 | F38: 65.529373 | G38: 16.248386 | H38: 8.4987928 | I38: 1.4680574 | J38: =H38+I38 -> 9.9668502 | K38: =F38+G38+J38 -> 91.74461 | M38: variance | N38: =VAR(N4:N36) -> 466.79688 | O38: =VAR(O4:O36) -> 726.50161 | P38: =VAR(P4:P36) -> 497.76244 | Q38: =VAR(Q4:Q36) -> 2264.9285
B39: =RIGHT(C39,1) -> C | C39: 6C | D39: 9216349 | E39: 398739 | F39: 112.53408 | G39: 26.808933 | H39: 14.497861 | I39: 1.5179283 | J39: =H39+I39 -> 16.015789 | K39: =F39+G39+J39 -> 155.3588 | M39: stan dev | N39: =STDEV(N4:N36) -> 21.605483 | O39: =STDEV(O4:O36) -> 26.953694 | P39: =STDEV(P4:P36) -> 22.31059 | Q39: =STDEV(Q4:Q36) -> 47.591265
B40: =RIGHT(C40,1) -> c | C40: 7c | D40: 9234403 | E40: 460028 | F40: 135.65661 | G40: 31.873578 | H40: 5.8324755 | I40: 0.29850501 | J40: =H40+I40 -> 6.1309805 | K40: =F40+G40+J40 -> 173.66117 | M40: CV(%) | N40: =(N39/N37)*100 -> 26.833676 | O40: =(O39/O37)*100 -> 21.165922 | P40: =(P39/P37)*100 -> 21.922776 | Q40: =(Q39/Q37)*100 -> 25.981877
B41: =RIGHT(C41,1) -> c | C41: 8c | D41: 9155825 | E41: 410654 | F41: 86.465364 | G41: 21.004209 | H41: 12.512775 | I41: 0.97870494 | J41: =H41+I41 -> 13.49148 | K41: =F41+G41+J41 -> 120.96105 | M41: stan error | N41: =SQRT((N39^2)/N44) -> 8.8204014 | O41: =SQRT((O39^2)/O44) -> 4.6920358 | P41: =SQRT((P39^2)/P44) -> 9.9775993 | Q41: =SQRT((Q39^2)/Q44) -> 10.64173
B42: =RIGHT(C42,1) -> c | C42: 9c | D42: 9154880 | E42: 401933 | F42: 76.937673 | G42: 18.851905 | H42: 4.0722066 | I42: 0.65246996 | J42: =H42+I42 -> 4.7246766 | K42: =F42+G42+J42 -> 100.51425 | M42: 90% CI | N42: =(2.015*N41) -> 17.773109 | O42: =(1.697*O41) -> 7.9623848 | P42: =(2.132*P41) -> 21.272242 | Q42: =(1.729*Q41) -> 18.399552 | R42: =N49 -> 9.4941607
B43: =RIGHT(C43,1) -> h | C43: 1h | D43: 9135654 | E43: 355625 | F43: 77.116338 | G43: 18.89244 | H43: 1.7492174 | I43: 0.65246996 | J43: =H43+I43 -> 2.4016873 | K43: =F43+G43+J43 -> 98.410466 | M43: 95% CI | N43: =(2.571*N41) -> 22.677252 | O43: =(2.042*O41) -> 9.5811372 | P43: =(2.776*P41) -> 27.697816 | Q43: =(2.093*Q41) -> 22.273142
B44: =RIGHT(C44,1) -> h | C44: 2h | D44: 9136466 | E44: 355328 | F44: 105.03 | G44: 25.149345 | H44: 1.298562 | I44: 0 | J44: =H44+I44 -> 1.298562 | K44: =F44+G44+J44 -> 131.47791 | M44: n | N44: =COUNT(N4:N36) -> 6 | O44: =COUNT(O4:O36) -> 33 | P44: =COUNT(P4:P36) -> 5 | Q44: =COUNT(Q4:Q36) -> 20 | R44: =SUM(N44:Q44) -> 64
B45: =RIGHT(C45,1) -> h | C45: 3h | D45: 9129481 | E45: 357883 | F45: 89.923871 | G45: 21.781046 | H45: 5.1436518 | I45: 0 | J45: =H45+I45 -> 5.1436518 | K45: =F45+G45+J45 -> 116.84857 | M45: ha | N45: 48292.9 | O45: 238873.9 | P45: 8243.7 | Q45: 293531.2 | R45: =SUM(N45:Q45) -> 588941.7 | S45: OVERALL STATS
B46: =RIGHT(C46,1) -> h | C46: 4h | D46: 9127725 | E46: 356818 | F46: 53.422665 | G46: 13.448206 | H46: 9.3346121 | I46: 2.4467624 | J46: =H46+I46 -> 11.781374 | K46: =F46+G46+J46 -> 78.652245 | M46: variance | N46: =(N45^2*N38)/N44 -> 1.8144427e+11 | O46: =(O45^2*O38)/O44 -> 1.2562036e+12 | P46: =(P45^2*P38)/P44 -> 6.7654466e+09 | Q46: =(Q45^2*Q38)/Q44 -> 9.7573761e+12
B47: =RIGHT(C47,1) -> h | C47: 5h | D47: 9134705 | E47: 353670 | F47: 59.898256 | G47: 14.951199 | H47: 6.4042699 | I47: 2.2020861 | J47: =H47+I47 -> 8.606356 | K47: =F47+G47+J47 -> 83.455811 | M47: stan error | N47: =SQRT((1/R45^2)*SUM(N46:Q46)) -> 5.6829181
B48: =RIGHT(C48,1) -> m | C48: 10m | D48: 9112701 | E48: 342698 | F48: 87.845526 | G48: 21.314487 | H48: 3.9346034 | I48: 1.9516221 | J48: =H48+I48 -> 5.8862256 | K48: =F48+G48+J48 -> 115.04624 | M48: mean | N48: =((N37*N45)+(O37*O45)+(P37*P45)+(Q37*Q45))/R45 -> 150.97091
B49: =RIGHT(C49,1) -> m | C49: 11m | D49: 9138756 | E49: 330325 | F49: 136.31065 | G49: 32.015852 | H49: 7.5541259 | I49: 0 | J49: =H49+I49 -> 7.5541259 | K49: =F49+G49+J49 -> 175.88062 | M49: 90% CI | N49: =TINV(0.1,R44-4)*N47 -> 9.4941607
B50: =RIGHT(C50,1) -> m | C50: 12m | D50: 9218658 | E50: 389881 | F50: 196.49494 | G50: 44.91939 | H50: 20.05992 | I50: 0 | J50: =H50+I50 -> 20.05992 | K50: =F50+G50+J50 -> 261.47425 | M50: 95% CI | N50: =TINV(0.05,R44-4)*N47 -> 11.367529
B51: =RIGHT(C51,1) -> m | C51: 13m | D51: 9094698 | E51: 366911 | F51: 136.11899 | G51: 31.974165 | H51: 9.7412505 | I51: 0.4211764 | J51: =H51+I51 -> 10.162427 | K51: =F51+G51+J51 -> 178.25558 | M51: 90% CI as % of mean | N51: =N49/N48 -> 0.062887352
B52: =RIGHT(C52,1) -> m | C52: 14m | D52: 9138564 | E52: 328786 | F52: 162.81852 | G52: 37.742286 | H52: 15.304715 | I52: 0 | J52: =H52+I52 -> 15.304715 | K52: =F52+G52+J52 -> 215.86552 | M52: 95% CI as % of mean | N52: =N50/N48 -> 0.075296153
B53: =RIGHT(C53,1) -> m | C53: 15m | D53: 90826570 | E53: 371230 | F53: 157.30535 | G53: 36.557371 | H53: 3.6152701 | I53: 2.1142573 | J53: =H53+I53 -> 5.7295274 | K53: =F53+G53+J53 -> 199.59225
B54: =RIGHT(C54,1) -> m | C54: 16m | D54: 9113536 | E54: 341834 | F54: 184.48472 | G54: 42.371108 | H54: 7.025954 | I54: 0 | J54: =H54+I54 -> 7.025954 | K54: =F54+G54+J54 -> 233.88179
B55: =RIGHT(C55,1) -> m | C55: 17m | D55: 9138568 | E55: 329718 | F55: 112.67753 | G55: 26.840576 | H55: 19.100939 | I55: 1.6263518 | J55: =H55+I55 -> 20.727291 | K55: =F55+G55+J55 -> 160.24539
B56: =RIGHT(C56,1) -> m | C56: 18m | D56: 9095511 | E56: 366352 | F56: 151.80907 | G56: 35.373022 | H56: 8.6457693 | I56: 2.44 | J56: =H56+I56 -> 11.085769 | K56: =F56+G56+J56 -> 198.26786
B57: =RIGHT(C57,1) -> m | C57: 19m | D57: 9094841 | E57: 365343 | F57: 134.00754 | G57: 31.514626 | H57: 6.6771631 | I57: 1.6263518 | J57: =H57+I57 -> 8.3035149 | K57: =F57+G57+J57 -> 173.82568
B58: =RIGHT(C58,1) -> m | C58: 1m | D58: 9139078 | E58: 330587 | F58: 80.626812 | G58: 19.687496 | H58: 24.044856 | I58: 2.1142573 | J58: =H58+I58 -> 26.159113 | K58: =F58+G58+J58 -> 126.47342
B59: =RIGHT(C59,1) -> m | C59: 20m | D59: 9094305 | E59: 366033 | F59: 114.83177 | G59: 27.315424 | H59: 7.3188761 | I59: 1.5450342 | J59: =H59+I59 -> 8.8639103 | K59: =F59+G59+J59 -> 151.0111
B60: =RIGHT(C60,1) -> m | C60: 2m | D60: 9096285 | E60: 366284 | F60: 201.70745 | G60: 46.021737 | H60: 1.8194107 | I60: 0 | J60: =H60+I60 -> 1.8194107 | K60: =F60+G60+J60 -> 249.5486
B61: =RIGHT(C61,1) -> m | C61: 3m | D61: 9112272 | E61: 342049 | F61: 102.24385 | G61: 24.53096 | H61: 27.302562 | I61: 1.9516221 | J61: =H61+I61 -> 29.254184 | K61: =F61+G61+J61 -> 156.029
B62: =RIGHT(C62,1) -> m | C62: 4m | D62: 9146556 | E62: 364209 | F62: 94.983627 | G62: 22.913595 | H62: 7.2528252 | I62: 0 | J62: =H62+I62 -> 7.2528252 | K62: =F62+G62+J62 -> 125.15005
B63: =RIGHT(C63,1) -> m | C63: 5m | D63: 9113679 | E63: 342777 | F63: 125.68187 | G63: 29.697298 | H63: 6.2023916 | I63: 0 | J63: =H63+I63 -> 6.2023916 | K63: =F63+G63+J63 -> 161.58156
B64: =RIGHT(C64,1) -> m | C64: 6m | D64: 9280012 | E64: 403706 | F64: 85.327408 | G64: 20.748107 | H64: 8.8156074 | I64: 6.0044908 | J64: =H64+I64 -> 14.820098 | K64: =F64+G64+J64 -> 120.89561
... B67: =RIGHT(C67,1) -> m | C67: 9m | D67: 9097210 | E67: 366879 | F67: 177.13782 | G67: 40.806255 | H67: 11.153605 | I67: 1.95 | J67: =H67+I67 -> 13.103605 | K67: =F67+G67+J67 -> 231.04768

Sheet defor rate
B2: R^2= | H2: DF=13
B3: =L24 -> 0.76784842 | C3: t=2.000 | K3: residual stan dev | M3: MSE | N3: SQRT MSE
H4: R^2 analysis | K4: =SQRT(K22/13) -> 2786.9835 | M4: =AVERAGE(K7:K21) -> 6731639.9 | N4: =SQRT(M4) -> 2594.5404
A5: model | C5: 95% C.I. | H5: OBSERVED | K5: RSS
A6: change pop | B6: change defor | C6: plus | D6: minus | H6: change def | I6: change pop | J6: predicted | K6: y-yhat^2 | L6: y^2 | M6: x^2
A7: 0 | B7: =2.2304*A7 + 1796.4 -> 1796.4 | C7: =$B7+2*($K$4*(SQRT((1/13)+((($A7-$I$22)^2)/$M$22)))) -> 4319.3618 | D7: =$B7-2*($K$4*(SQRT((1/13)+((($A7-$I$22)^2)/$M$22)))) -> -726.56177 | H7: 11778.66 | I7: 2722 | J7: =2.2304*I7 + 1796.4 -> 7867.5488 | K7: =(H7-J7)^2 -> 15296791 | L7: =(H7-$H$22)^2 -> 11868948 | M7: =(I7-$I$22)^2 -> 43625.284
A8: =A7+500 -> 500 | B8: =2.2304*A8 + 1796.4 -> 2911.6 | C8: =$B8+2*($K$4*(SQRT((1/13)+((($A8-$I$22)^2)/$M$22)))) -> 5175.3674 | D8: =$B8-2*($K$4*(SQRT((1/13)+((($A8-$I$22)^2)/$M$22)))) -> 647.83262 | H8: 18794.34 | I8: 5722 | J8: =2.2304*I8 + 1796.4 -> 14558.749 | K8: =(H8-J8)^2 -> 17940233 | L8: =(H8-$H$22)^2 -> 1.0942863e+08 | M8: =(I8-$I$22)^2 -> 7790425.3
A9: =A8+500 -> 1000 | B9: =2.2304*A9 + 1796.4 -> 4026.8 | C9: =$B9+2*($K$4*(SQRT((1/13)+((($A9-$I$22)^2)/$M$22)))) -> 6055.4319 | D9: =$B9-2*($K$4*(SQRT((1/13)+((($A9-$I$22)^2)/$M$22)))) -> 1998.1681 | H9: 14891.31 | I9: 4561 | J9: =2.2304*I9 + 1796.4 -> 11969.254 | K9: =(H9-J9)^2 -> 8538408.9 | L9: =(H9-$H$22)^2 -> 43004531 | M9: =(I9-$I$22)^2 -> 2657334.7
A10: =A9+500 -> 1500 | B10: =2.2304*A10 + 1796.4 -> 5142 | C10: =$B10+2*($K$4*(SQRT((1/13)+((($A10-$I$22)^2)/$M$22)))) -> 6968.8688 | D10: =$B10-2*($K$4*(SQRT((1/13)+((($A10-$I$22)^2)/$M$22)))) -> 3315.1312 | H10: 8208.81 | I10: 2776 | J10: =2.2304*I10 + 1796.4 -> 7987.9904 | K10: =(H10-J10)^2 -> 48761.296 | L10: =(H10-$H$22)^2 -> 15554.081 | M10: =(I10-$I$22)^2 -> 23983.684
A11: =A10+500 -> 2000 | B11: =2.2304*A11 + 1796.4 -> 6257.2 | C11: =$B11+2*($K$4*(SQRT((1/13)+((($A11-$I$22)^2)/$M$22)))) -> 7927.8135 | D11: =$B11-2*($K$4*(SQRT((1/13)+((($A11-$I$22)^2)/$M$22)))) -> 4586.5865 | H11: 17565.21 | I11: 8544 | J11: =2.2304*I11 + 1796.4 -> 20852.938 | K11: =(H11-J11)^2 -> 10809153 | L11: =(H11-$H$22)^2 -> 85223989 | M11: =(I11-$I$22)^2 -> 31507266
A12: =A11+500 -> 2500 | B12: =2.2304*A12 + 1796.4 -> 7372.4 | C12: =$B12+2*($K$4*(SQRT((1/13)+((($A12-$I$22)^2)/$M$22)))) -> 8945.8826 | D12: =$B12-2*($K$4*(SQRT((1/13)+((($A12-$I$22)^2)/$M$22)))) -> 5798.9174 | H12: 1112.13 | I12: 961 | J12: =2.2304*I12 + 1796.4 -> 3939.8144 | K12: =(H12-J12)^2 -> 7995799.1 | L12: =(H12-$H$22)^2 -> 52148560 | M12: =(I12-$I$22)^2 -> 3880374.7
A13: =A12+500 -> 3000 | B13: =2.2304*A13 + 1796.4 -> 8487.6 | C13: =$B13+2*($K$4*(SQRT((1/13)+((($A13-$I$22)^2)/$M$22)))) -> 10034.255 | D13: =$B13-2*($K$4*(SQRT((1/13)+((($A13-$I$22)^2)/$M$22)))) -> 6940.9445 | H13: 1912.86 | I13: 926 | J13: =2.2304*I13 + 1796.4 -> 3861.7504 | K13: =(H13-J13)^2 -> 3798173.8 | L13: =(H13-$H$22)^2 -> 41224952 | M13: =(I13-$I$22)^2 -> 4019490.4
A14: =A13+500 -> 3500 | B14: =2.2304*A14 + 1796.4 -> 9602.8 | C14: =$B14+2*($K$4*(SQRT((1/13)+((($A14-$I$22)^2)/$M$22)))) -> 11196.487 | D14: =$B14-2*($K$4*(SQRT((1/13)+((($A14-$I$22)^2)/$M$22)))) -> 8009.1135 | H14: 3287.88 | I14: 1782 | J14: =2.2304*I14 + 1796.4 -> 5770.9728 | K14: =(H14-J14)^2 -> 6165749.9 | L14: =(H14-$H$22)^2 -> 25458544 | M14: =(I14-$I$22)^2 -> 1319894.6
A15: =A14+500 -> 4000 | B15: =2.2304*A15 + 1796.4 -> 10718 | C15: =$B15+2*($K$4*(SQRT((1/13)+((($A15-$I$22)^2)/$M$22)))) -> 12426.487 | D15: =$B15-2*($K$4*(SQRT((1/13)+((($A15-$I$22)^2)/$M$22)))) -> 9009.5129 | H15: 6418.98 | I15: 1651 | J15: =2.2304*I15 + 1796.4 -> 5478.7904 | K15: =(H15-J15)^2 -> 883956.48 | L15: =(H15-$H$22)^2 -> 3665486.4 | M15: =(I15-$I$22)^2 -> 1638058.7
A16: =A15+500 -> 4500 | B16: =2.2304*A16 + 1796.4 -> 11833.2 | C16: =$B16+2*($K$4*(SQRT((1/13)+((($A16-$I$22)^2)/$M$22)))) -> 13711.874 | D16: =$B16-2*($K$4*(SQRT((1/13)+((($A16-$I$22)^2)/$M$22)))) -> 9954.5257 | H16: 9023.49 | I16: 3719 | J16: =2.2304*I16 + 1796.4 -> 10091.258 | K16: =(H16-J16)^2 -> 1140127.6 | L16: =(H16-$H$22)^2 -> 476050.32 | M16: =(I16-$I$22)^2 -> 621154.15
A17: =A16+500 -> 5000 | B17: =2.2304*A17 + 1796.4 -> 12948.4 | C17: =$B17+2*($K$4*(SQRT((1/13)+((($A17-$I$22)^2)/$M$22)))) -> 15039.166 | D17: =$B17-2*($K$4*(SQRT((1/13)+((($A17-$I$22)^2)/$M$22)))) -> 10857.634 | H17: 996.39 | I17: 295 | J17: =2.2304*I17 + 1796.4 -> 2454.368 | K17: =(H17-J17)^2 -> 2125699.8 | L17: =(H17-$H$22)^2 -> 53833565 | M17: =(I17-$I$22)^2 -> 6947793.1
A18: =A17+500 -> 5500 | B18: =2.2304*A18 + 1796.4 -> 14063.6 | C18: =$B18+2*($K$4*(SQRT((1/13)+((($A18-$I$22)^2)/$M$22)))) -> 16396.964 | D18: =$B18-2*($K$4*(SQRT((1/13)+((($A18-$I$22)^2)/$M$22)))) -> 11730.236 | H18: 8987.49 | I18: 3850 | J18: =2.2304*I18 + 1796.4 -> 10383.44 | K18: =(H18-J18)^2 -> 1948676.4 | L18: =(H18-$H$22)^2 -> 427668.91 | M18: =(I18-$I$22)^2 -> 844806.08
A19: =A18+500 -> 6000 | B19: =2.2304*A19 + 1796.4 -> 15178.8 | C19: =$B19+2*($K$4*(SQRT((1/13)+((($A19-$I$22)^2)/$M$22)))) -> 17776.736 | D19: =$B19-2*($K$4*(SQRT((1/13)+((($A19-$I$22)^2)/$M$22)))) -> 12580.864 | H19: 8280.36 | I19: 853 | J19: =2.2304*I19 + 1796.4 -> 3698.9312 | K19: =(H19-J19)^2 -> 20989490 | L19: =(H19-$H$22)^2 -> 2826.6236 | M19: =(I19-$I$22)^2 -> 4317529.9
... A21: =A20+500 -> 7000 | B21: =2.2304*A21 + 1796.4 -> 17409.2 | C21: =$B21+2*($K$4*(SQRT((1/13)+((($A21-$I$22)^2)/$M$22)))) -> 20579.82 | D21: =$B21-2*($K$4*(SQRT((1/13)+((($A21-$I$22)^2)/$M$22)))) -> 14238.58 | H21: 8269.38 | I21: 3663 | J21: =2.2304*I21 + 1796.4 -> 9966.3552 | K21: =(H21-J21)^2 -> 2879724.8 | L21: =(H21-$H$22)^2 -> 4114.7093 | M21: =(I21-$I$22)^2 -> 536019.22
A22: =A21+500 -> 7500 | B22: =2.2304*A22 + 1796.4 -> 18524.4 | C22: =$B22+2*($K$4*(SQRT((1/13)+((($A22-$I$22)^2)/$M$22)))) -> 21995.957 | D22: =$B22-2*($K$4*(SQRT((1/13)+((($A22-$I$22)^2)/$M$22)))) -> 15052.843 | H22: =AVERAGE(H7:H21) -> 8333.526 | I22: =AVERAGE(I7:I21) -> 2930.8667 | K22: =SUM(K7:K21) -> 1.009746e+08 | L22: =SUM(L7:L21) -> 4.3495116e+08 | M22: =SUM(M7:M21) -> 67133540
A23: =A22+500 -> 8000 | B23: =2.2304*A23 + 1796.4 -> 19639.6 | C23: =$B23+2*($K$4*(SQRT((1/13)+((($A23-$I$22)^2)/$M$22)))) -> 23418.751 | D23: =$B23-2*($K$4*(SQRT((1/13)+((($A23-$I$22)^2)/$M$22)))) -> 15860.449 | H23: mean | I23: mean | K23: sum | L23: sum
A24: =A23+500 -> 8500 | B24: =2.2304*A24 + 1796.4 -> 20754.8 | C24: =$B24+2*($K$4*(SQRT((1/13)+((($A24-$I$22)^2)/$M$22)))) -> 24846.701 | D24: =$B24-2*($K$4*(SQRT((1/13)+((($A24-$I$22)^2)/$M$22)))) -> 16662.899 | K24: R^2= | L24: =1-(K22/L22) -> 0.76784842
A25: =A24+500 -> 9000 | B25: =2.2304*A25 + 1796.4 -> 21870 | C25: =$B25+2*($K$4*(SQRT((1/13)+((($A25-$I$22)^2)/$M$22)))) -> 26278.71 | D25: =$B25-2*($K$4*(SQRT((1/13)+((($A25-$I$22)^2)/$M$22)))) -> 17461.29
A26: =A25+500 -> 9500 | B26: =2.2304*A26 + 1796.4 -> 22985.2 | C26: =$B26+2*($K$4*(SQRT((1/13)+((($A26-$I$22)^2)/$M$22)))) -> 27713.962 | D26: =$B26-2*($K$4*(SQRT((1/13)+((($A26-$I$22)^2)/$M$22)))) -> 18256.438
A27: =A26+500 -> 10000 | B27: =2.2304*A27 + 1796.4 -> 24100.4 | C27: =$B27+2*($K$4*(SQRT((1/13)+((($A27-$I$22)^2)/$M$22)))) -> 29151.841 | D27: =$B27-2*($K$4*(SQRT((1/13)+((($A27-$I$22)^2)/$M$22)))) -> 19048.959
A28: =A27+500 -> 10500 | B28: =2.2304*A28 + 1796.4 -> 25215.6 | C28: =$B28+2*($K$4*(SQRT((1/13)+((($A28-$I$22)^2)/$M$22)))) -> 30591.873 | D28: =$B28-2*($K$4*(SQRT((1/13)+((($A28-$I$22)^2)/$M$22)))) -> 19839.327
A29: =A28+500 -> 11000 | B29: =2.2304*A29 + 1796.4 -> 26330.8 | C29: =$B29+2*($K$4*(SQRT((1/13)+((($A29-$I$22)^2)/$M$22)))) -> 32033.692 | D29: =$B29-2*($K$4*(SQRT((1/13)+((($A29-$I$22)^2)/$M$22)))) -> 20627.908
A30: =A29+500 -> 11500 | B30: =2.2304*A30 + 1796.4 -> 27446 | C30: =$B30+2*($K$4*(SQRT((1/13)+((($A30-$I$22)^2)/$M$22)))) -> 33477.006 | D30: =$B30-2*($K$4*(SQRT((1/13)+((($A30-$I$22)^2)/$M$22)))) -> 21414.994
A31: =A30+500 -> 12000 | B31: =2.2304*A31 + 1796.4 -> 28561.2 | C31: =$B31+2*($K$4*(SQRT((1/13)+((($A31-$I$22)^2)/$M$22)))) -> 34921.584 | D31: =$B31-2*($K$4*(SQRT((1/13)+((($A31-$I$22)^2)/$M$22)))) -> 22200.816
A32: =A31+500 -> 12500 | B32: =2.2304*A32 + 1796.4 -> 29676.4 | C32: =$B32+2*($K$4*(SQRT((1/13)+((($A32-$I$22)^2)/$M$22)))) -> 36367.24 | D32: =$B32-2*($K$4*(SQRT((1/13)+((($A32-$I$22)^2)/$M$22)))) -> 22985.56
A33: =A32+500 -> 13000 | B33: =2.2304*A33 + 1796.4 -> 30791.6 | C33: =$B33+2*($K$4*(SQRT((1/13)+((($A33-$I$22)^2)/$M$22)))) -> 37813.822 | D33: =$B33-2*($K$4*(SQRT((1/13)+((($A33-$I$22)^2)/$M$22)))) -> 23769.378
A34: =A33+500 -> 13500 | B34: =2.2304*A34 + 1796.4 -> 31906.8 | C34: =$B34+2*($K$4*(SQRT((1/13)+((($A34-$I$22)^2)/$M$22)))) -> 39261.203 | D34: =$B34-2*($K$4*(SQRT((1/13)+((($A34-$I$22)^2)/$M$22)))) -> 24552.397
A35: =A34+500 -> 14000 | B35: =2.2304*A35 + 1796.4 -> 33022 | C35: =$B35+2*($K$4*(SQRT((1/13)+((($A35-$I$22)^2)/$M$22)))) -> 40709.281 | D35: =$B35-2*($K$4*(SQRT((1/13)+((($A35-$I$22)^2)/$M$22)))) -> 25334.719
A36: =A35+500 -> 14500 | B36: =2.2304*A36 + 1796.4 -> 34137.2 | C36: =$B36+2*($K$4*(SQRT((1/13)+((($A36-$I$22)^2)/$M$22)))) -> 42157.969 | D36: =$B36-2*($K$4*(SQRT((1/13)+((($A36-$I$22)^2)/$M$22)))) -> 26116.431
... A85: =A84+500 -> 39000 | B85: =2.2304*A85 + 1796.4 -> 88782 | C85: =$B85+2*($K$4*(SQRT((1/13)+((($A85-$I$22)^2)/$M$22)))) -> 113368.15 | D85: =$B85-2*($K$4*(SQRT((1/13)+((($A85-$I$22)^2)/$M$22)))) -> 64195.848

Sheet pop proj
B1: population projections
C3: Growth | D3: 2008 | E3: 2009 | F3: 2010 | G3: 2011 | H3: 2012 | I3: 2013 | J3: 2014 | K3: 2015 | L3: 2016 | M3: 2017 | N3: 2018
B4: ALTO BIAVO | C4: E | D4: 6433.1699 | E4: 6821.4398 | F4: 7233.1434 | G4: 7669.6952 | H4: 8132.5947 | I4: 8623.4323 | J4: 9143.894 | K4: 9695.7679 | L4: 10280.95 | M4: 10901.45 | N4: 11559.4
B5: BAJO BIAVO | C5: E | D5: 13983.643 | E5: 16447.326 | F5: 19345.069 | G5: 22753.347 | H5: 26762.105 | I5: 31477.14 | J5: 37022.884 | K5: 43545.696 | L5: 51217.718 | M5: 60241.422 | N5: 70854.951
B6: CAMPANILLA | C6: E | D6: 8730.5385 | E6: 9173.4628 | F6: 9638.8579 | G6: 10127.864 | H6: 10641.678 | I6: 11181.56 | J6: 11748.831 | K6: 12344.882 | L6: 12971.172 | M6: 13629.235 | N6: 14320.684
B7: HUALLAGA | C7: L | D7: 2867 | E7: 2852 | F7: 2837 | G7: 2822 | H7: 2807 | I7: 2792 | J7: 2777 | K7: 2762 | L7: 2747 | M7: 2732 | N7: 2717
B8: NUEVO PROGRESO | C8: E | D8: 12610.339 | E8: 13825.479 | F8: 15157.709 | G8: 16618.315 | H8: 18219.665 | I8: 19975.322 | J8: 21900.155 | K8: 24010.466 | L8: 26324.129 | M8: 28860.736 | N8: 31641.773
B9: PAJARILLO | C9: L | D9: 5346.5 | E9: 5438 | F9: 5529.5 | G9: 5621 | H9: 5712.5 | I9: 5804 | J9: 5895.5 | K9: 5987 | L9: 6078.5 | M9: 6170 | N9: 6261.5
B10: SAN CRISTOBAL | C10: E | D10: 1363.4631 | E10: 1407.2911 | F10: 1452.528 | G10: 1499.219 | H10: 1547.4109 | I10: 1597.1519 | J10: 1648.4918 | K10: 1701.482 | L10: 1756.1755 | M10: 1812.6271 | N10: 1870.8934
B11: SHAMBOYACU | C11: E | D11: 7980.0471 | E11: 8960.3422 | F11: 10061.06 | G11: 11296.993 | H11: 12684.753 | I11: 14242.99 | J11: 15992.645 | K11: 17957.234 | L11: 20163.159 | M11: 22640.068 | N11: 25421.247
B12: TINGO DE PONASA | C12: L | D12: 4006 | E12: 3957 | F12: 3908 | G12: 3859 | H12: 3810 | I12: 3761 | J12: 3712 | K12: 3663 | L12: 3614 | M12: 3565 | N12: 3516
B13: TRES UNIDOS | C13: E | D13: 4671.2897 | E13: 5226.5742 | F13: 5847.8664 | G13: 6543.0127 | H13: 7320.7923 | I13: 8191.0279 | J13: 9164.71 | K13: 10254.135 | L13: 11473.063 | M13: 12836.886 | N13: 14362.83
B14: CHAZUTA | C14: L | D14: 8471 | E14: 8107 | F14: 7743 | G14: 7379 | H14: 7015 | I14: 6651 | J14: 6287 | K14: 5923 | L14: 5559 | M14: 5195 | N14: 4831
B15: CONTAMANA | C15: E | D15: 26020.09 | E15: 27570.349 | F15: 29212.972 | G15: 30953.462 | H15: 32797.648 | I15: 34751.71 | J15: 36822.194 | K15: 39016.036 | L15: 41340.585 | M15: 43803.629 | N15: 46413.42
... B19: VARGAS GUERRA | C19: E | D19: 8889.5594 | E19: 9047.8895 | F19: 9209.0395 | G19: 9373.0597 | H19: 9540.0013 | I19: 9709.9162 | J19: 9882.8575 | K19: 10058.879 | L19: 10238.035 | M19: 10420.383 | N19: 10605.978
D20: total change | E20: 9732.6098 | F20: 11125 | G20: 12754.229 | H20: 14665.499 | I20: 16913.209 | J20: 19562.903 | K20: 22693.638 | L20: 26400.861 | M20: 30799.924 | N20: 36030.359
B23: deforestation projections
C24: 2009 | D24: 2010 | E24: 2011 | F24: 2012 | G24: 2013 | H24: 2014 | I24: 2015 | J24: 2016 | K24: 2017 | L24: 2018 | M24: Total
B25: ALTO BIAVO | C25: 994.32228 | D25: 1046.5896 | E25: 1102.0116 | F25: 1160.7784 | G25: 1223.0922 | H25: 1289.1668 | I25: 1359.2293 | J25: 1433.5204 | K25: 1512.2953 | L25: 1595.8245 | M25: 12716.83
B26: BAJO BIAVO | C26: 5623.3832 | D26: 6591.5223 | E26: 7730.2313 | F26: 9069.5617 | G26: 10644.86 | H26: 12497.699 | I26: 14676.977 | J26: 17240.208 | K26: 17565.21 | L26: 17565.21 | M26: 119204.86
B27: CAMPANILLA | C27: 1116.2251 | D27: 1166.3445 | E27: 1219.0067 | F27: 1274.3405 | G27: 1332.4816 | H27: 1393.5723 | I27: 1457.7623 | J27: 1525.2089 | K27: 1596.0772 | L27: 1670.5409 | M27: 13751.56
B28: HUALLAGA | C28: 0 | D28: 0 | E28: 0 | F28: 0 | G28: 0 | H28: 0 | I28: 0 | J28: 0 | K28: 0 | L28: 0 | M28: 0
B29: NUEVO PROGRESO | C29: 2838.5952 | D29: 3099.7594 | E29: 3386.0895 | F29: 3700.0106 | G29: 4044.1812 | H29: 4421.5164 | I29: 4835.2117 | J29: 5288.771 | K29: 5786.0355 | L29: 6331.2167 | M29: 43731.387
B30: PAJARILLO | C30: 332.39845 | D30: 332.39845 | E30: 332.39845 | F30: 332.39845 | G30: 332.39845 | H30: 332.39845 | I30: 332.39845 | J30: 332.39845 | K30: 332.39845 | L30: 332.39845 | M30: 3323.9845
B31: SAN CRISTOBAL | C31: 226.06959 | D31: 229.2119 | E31: 232.45522 | F31: 235.80279 | G31: 239.25797 | H31: 242.82422 | I31: 246.5051 | J31: 250.3043 | K31: 254.22563 | L31: 258.273 | M31: 2414.9297
B32: SHAMBOYACU | C32: 2314.792 | D32: 2583.386 | E32: 2884.9751 | F32: 3223.6123 | G32: 3603.8488 | H32: 4030.7948 | I32: 4510.1883 | J32: 5048.472 | K32: 5652.8803 | L32: 6331.5361 | M32: 40184.486
B33: TINGO DE PONASA | C33: 0 | D33: 0 | E33: 0 | F33: 0 | G33: 0 | H33: 0 | I33: 0 | J33: 0 | K33: 0 | L33: 0 | M33: 0
B34: TRES UNIDOS | C34: 1366.8365 | D34: 1514.0618 | E34: 1678.7881 | F34: 1863.0957 | G34: 2069.3122 | H34: 2300.0421 | I34: 2558.1993 | J34: 2847.044 | K34: 3170.2243 | L34: 3531.8215 | M34: 22899.426
B35: CHAZUTA | C35: 0 | D35: 0 | E35: 0 | F35: 0 | G35: 0 | H35: 0 | I35: 0 | J35: 0 | K35: 0 | L35: 0 | M35: 0
B36: CONTAMANA | C36: 3586.0568 | D36: 3792.0667 | E36: 4010.3507 | F36: 4241.6398 | G36: 4486.709 | H36: 4746.3792 | I36: 5021.5205 | J36: 5313.0544 | K36: 5621.9578 | L36: 5949.2654 | M36: 46769
... B40: VARGAS GUERRA | C40: 481.45806 | D40: 487.74783 | E40: 494.14963 | F40: 500.66544 | G40: 507.29731 | H40: 514.04729 | I40: 520.9175 | J40: 527.91007 | K40: 535.02719 | L40: 542.27107 | M40: 5111.4914
B41: Total | C41: 24214.511 | D41: 27320.123 | E41: 30953.986 | F41: 35216.92 | G41: 40230.261 | H41: 46140.199 | I41: 53123.064 | J41: 57723.793 | K41: 59950.797 | L41: 62040.643 | M41: =SUM(M25:M40) -> 436914.3
